BEGIN:VCALENDAR
VERSION:2.0
PRODID:-//ChamberMaster//Event Calendar 2.0//EN
METHOD:PUBLISH
X-PUBLISHED-TTL:P3D
REFRESH-INTERVAL:P3D
CALSCALE:GREGORIAN
BEGIN:VEVENT
DTSTART:20260513T133000Z
DTEND:20260513T200000Z
X-MICROSOFT-CDO-ALLDAYEVENT:FALSE
SUMMARY:2026 AABOA Business Trade Expo Attendee Registration
DESCRIPTION:Experience a powerful gathering of Asian American entrepreneurs at the Berglund Center in Roanoke\, Virginia. Explore a diverse showcase of businesses and exhibitors spanning multiple industries\, highlighting the innovation\, resilience\, and ambition driving our community forward.\n\n \n\nComplete the registration form below to confirm your participation in this year's event. https://form.jotform.com/260274905011145\n\n \n\nQuestions about your registration? Email us at aaboa@carnesagency.com.
X-ALT-DESC;FMTTYPE=text/html:<p style="box-sizing: border-box\; margin: 1em 0px\; color: rgb(44\, 51\, 69)\; font-family: Nunito\, sans-serif\; font-size: 15px\; background-color: rgb(255\, 226\, 206)\;">&nbsp\;</p>\n\n<div><span style="font-size: 13px\;">Experience a powerful gathering of Asian American entrepreneurs at the Berglund Center in Roanoke\, Virginia. Explore a diverse showcase of businesses and exhibitors spanning multiple industries\, highlighting the innovation\, resilience\, and ambition driving our community forward.</span></div>\n\n<div>&nbsp\;</div>\n\n<div><span style="font-size: 13px\;">Complete the registration form below to confirm your participation in this year&#39\;s event.&nbsp\;<a href="https://form.jotform.com/260274905011145">https://form.jotform.com/260274905011145</a></span></div>\n\n<div>&nbsp\;</div>\n\n<div><span style="font-size: 13px\;">Questions about your registration? Email us at <a href="mailto:aaboa@carnesagency.com">aaboa@carnesagency.com</a>.</span></div>\n
LOCATION:Berglund Special Events Center | Roanoke\, VA
UID:e.2276.9932
SEQUENCE:3
DTSTAMP:20260420T080429Z
URL:http://business.lynchburgregion.org/events/details/2026-aaboa-business-trade-expo-attendee-registration-9932
END:VEVENT

END:VCALENDAR
