BEGIN:VCALENDAR
VERSION:2.0
PRODID:-//ChamberMaster//Event Calendar 2.0//EN
METHOD:PUBLISH
X-PUBLISHED-TTL:P3D
REFRESH-INTERVAL:P3D
CALSCALE:GREGORIAN
BEGIN:VEVENT
DTSTART:20220606T160000Z
DTEND:20220606T170000Z
X-MICROSOFT-CDO-ALLDAYEVENT:FALSE
SUMMARY:Eat and Meet
DESCRIPTION:Let's go Eat & Meet!\n\n\n\nJoin us at a different Alliance member restaurant each month to bite down\, build relationships\, and better your business during your lunch break. You'll have the opportunity to grab lunch with Alliance staff\, board members\, ambassadors\, and fellow guests. Anyone is welcome to attend and there is no registration fee   you're just responsible for your own lunch.
X-ALT-DESC;FMTTYPE=text/html:<span style="font-size:16px\;"><span style="border:none windowtext 1.0pt\;padding:0in\;"><span style="color:black\;"><strong>Let&rsquo\;s go Eat &amp\; Meet!</strong><br />\n<br />\nJoin us at a different Alliance member restaurant each month to bite down\, build relationships\, and better your business during your lunch break. You&rsquo\;ll have the opportunity to grab lunch with Alliance staff\, board members\, ambassadors\, and fellow guests. Anyone is welcome to attend and there is no registration fee &ndash\; you&rsquo\;re just responsible for your own lunch.</span></span></span><br />\n<br />\n&nbsp\;
LOCATION:Mellow Mushroom 1220 Greenview Drive Lynchburg\, VA 24502
UID:e.2276.7442
SEQUENCE:3
DTSTAMP:20260425T125617Z
URL:http://business.lynchburgregion.org/events/details/eat-and-meet-7442
END:VEVENT

END:VCALENDAR
