BEGIN:VCALENDAR
VERSION:2.0
PRODID:-//ChamberMaster//Event Calendar 2.0//EN
METHOD:PUBLISH
X-PUBLISHED-TTL:P3D
REFRESH-INTERVAL:P3D
CALSCALE:GREGORIAN
BEGIN:VEVENT
DTSTART:20210511T160000Z
DTEND:20210511T171500Z
X-MICROSOFT-CDO-ALLDAYEVENT:FALSE
SUMMARY:A Gentry Locke Employment Webinar: Current Trends and the Initial Aftermath of the July 2020 Laws
DESCRIPTION:This seminar will provide an update on current trends we are seeing in our practice as it relates to EEOC charges\, employment litigation and compliance issues.\n\n\n\nWe will discuss proactive and practical steps that should be taken to prepare for the ongoing and much anticipated increase in state employment claims\, training and handbook updates\, terminating employment\, and how the new Virginia laws are impacting employers.\n\n	Attendees will learn about current trends we are actually seeing in our practice as it relates to EEOC charges\, employment litigation and compliance issues.\n\n	 \n	Attendees will be provided proactive and practical steps that should be taken to prepare for the ongoing and much anticipated increase in state employment claims. Training and handbook updates? What does it all mean practically speaking if an employer needs to terminate employment? Does the at-will doctrine exist anymore? Do mandatory arbitration agreements (pros and cons) make sense and what does that really involve? Will such agreements be upheld by courts?\n\n	 \n	Attendees will get a front line view of how the new Virginia laws are impacting employers. What creative claims are being filed?
X-ALT-DESC;FMTTYPE=text/html:This seminar will provide an update on current trends we are seeing in our practice as it relates to EEOC charges\, employment litigation and compliance issues.<br />\n<br />\nWe will discuss proactive and practical steps that should be taken to prepare for the ongoing and much anticipated increase in state employment claims\, training and handbook updates\, terminating employment\, and how the new Virginia laws are impacting employers.\n<ol>\n	<li>Attendees will learn about current trends we are actually seeing in our practice as it relates to EEOC charges\, employment litigation and compliance issues.<br />\n	&nbsp\;</li>\n	<li>Attendees will be provided proactive and practical steps that should be taken to prepare for the ongoing and much anticipated increase in state employment claims. Training and handbook updates? What does it all mean practically speaking if an employer needs to terminate employment? Does the at-will doctrine exist anymore? Do mandatory arbitration agreements (pros and cons) make sense and what does that really involve? Will such agreements be upheld by courts?<br />\n	&nbsp\;</li>\n	<li>Attendees will get a front line view of how the new Virginia laws are impacting employers. What creative claims are being filed? &nbsp\;</li>\n</ol>\n
LOCATION:Go-to-Webinar
UID:e.2276.6859
SEQUENCE:3
DTSTAMP:20260424T135143Z
URL:https://business.lynchburgregion.org/events/details/a-gentry-locke-employment-webinar-current-trends-and-the-initial-aftermath-of-the-july-2020-laws-6859
END:VEVENT

END:VCALENDAR
