BEGIN:VCALENDAR
VERSION:2.0
PRODID:-//ChamberMaster//Event Calendar 2.0//EN
METHOD:PUBLISH
X-PUBLISHED-TTL:P3D
REFRESH-INTERVAL:P3D
CALSCALE:GREGORIAN
BEGIN:VEVENT
DTSTART:20260430T220000Z
DTEND:20260501T000000Z
X-MICROSOFT-CDO-ALLDAYEVENT:FALSE
SUMMARY:AFP-VA How to Make Lynchburg Great
DESCRIPTION:We invite you to attend an event featuring local elected officials and potential candidates for office in Lynchburg\, who will debate issues aligned with the principles of Americans for Prosperity\, including: education\, property tax\, job access\, and collective bargaining. Refreshments will be served. Please come prepared with your questions and enthusiasm.
X-ALT-DESC;FMTTYPE=text/html:<span style="background-color:rgb(255\, 255\, 255)\; color:rgb(33\, 37\, 41)\; font-family:cooper hewitt\,helvetica\,sans-serif\; font-size:18px">We invite you to attend an event featuring local elected officials and potential candidates for office in Lynchburg\, who will debate issues aligned with the principles of Americans for Prosperity\, including: education\, property tax\, job access\, and collective bargaining. Refreshments will be served. Please come prepared with your questions and enthusiasm.</span>
LOCATION:Americans for Prosperity Lynchburg Office
UID:e.2276.9980
SEQUENCE:3
DTSTAMP:20260422T041513Z
URL:https://business.lynchburgregion.org/events/details/afp-va-how-to-make-lynchburg-great-9980
END:VEVENT

END:VCALENDAR
