BEGIN:VCALENDAR
VERSION:2.0
PRODID:-//ChamberMaster//Event Calendar 2.0//EN
METHOD:PUBLISH
X-PUBLISHED-TTL:P3D
REFRESH-INTERVAL:P3D
CALSCALE:GREGORIAN
BEGIN:VEVENT
DTSTART;VALUE=DATE:20240309
DTEND;VALUE=DATE:20240310
TRANSP:TRANSPARENT
X-MICROSOFT-CDO-ALLDAYEVENT:TRUE
SUMMARY:Alliance Day at Venue Cinemas
DESCRIPTION:Enjoy a FREE family-day at the movies!   \n\n\n\nJoin the Lynchburg Regional Business Alliance and Young Professionals of Central Virginia for a fun day at the movies!\n\n\n\nOn March 9\, come by yourself or bring your family\, friends or coworkers and enjoy a day of free movies at Venue Cinemas! You'll be able to choose whichever movies you'd like to see that are showing that day.\n\n\n\nClick here to view what's now showing.\n\n\n\nRegistration is FREE for Alliance & YPCV members! Register and you will receive a confirmation email with a code to claim your tickets on March 9. Concessions will be available for purchase!
X-ALT-DESC;FMTTYPE=text/html:<span style="font-size:20px\;"><span style="color:#FF8C00\;"><span style="font-family:tahoma\;"><strong>Enjoy a <u>FREE</u>&nbsp\;family-day at the movies!&nbsp\;</strong></span></span>&#127903\;&#65039\;</span><br />\n<br />\n<span style="font-size:16px\;"><span style="font-family:tahoma\;">Join the Lynchburg Regional Business Alliance and Young Professionals of Central Virginia for a fun day at the movies!<br />\n<br />\nOn March 9\, come by yourself or bring your family\, friends or coworkers and enjoy a day of free movies at Venue Cinemas! You&#39\;ll be able to choose whichever movies you&#39\;d like to see that are showing that day.<br />\n<br />\n<u><strong><a href="https://71031.formovietickets.com:2235/"><span style="color:#FF8C00\;">Click here to view what&#39\;s now showing.</span></a></strong></u></span></span><br />\n<br />\n<span style="color: rgb(63\, 63\, 63)\; font-family: tahoma\; font-size: 16px\;">Registration is <strong><u>FREE</u></strong> for Alliance &amp\; YPCV members! Register and you will receive a confirmation email with a code to claim your tickets on March 9.&nbsp\;</span><span style="font-size:16px\;"><span style="font-family:tahoma\;">Concessions will be available for purchase!</span></span><br />\n&nbsp\;\n<hr />
LOCATION:Venue Cinemas 901 Lakeside Drive Lynchburg\, VA 24501
UID:e.2276.8414
SEQUENCE:3
DTSTAMP:20260420T074504Z
URL:https://business.lynchburgregion.org/events/details/alliance-day-at-venue-cinemas-8414
END:VEVENT

END:VCALENDAR
