BEGIN:VCALENDAR
VERSION:2.0
PRODID:-//ChamberMaster//Event Calendar 2.0//EN
METHOD:PUBLISH
X-PUBLISHED-TTL:P3D
REFRESH-INTERVAL:P3D
CALSCALE:GREGORIAN
BEGIN:VEVENT
DTSTART:20260311T223000Z
DTEND:20260312T003000Z
X-MICROSOFT-CDO-ALLDAYEVENT:FALSE
SUMMARY:"Almost Done!" End of Session Reception\, presented by Hurt & Proffitt
DESCRIPTION:As a way to show our appreciation for our Lynchburg regional delegation\, and bringing together lawmakers\, statewide elected and administration officials from across Virginia\, join us in celebrating the last week of the 2026 General Assembly Session\, on Wednesday\, March 11th\, the Alliance will host our "Almost Done!" End of Session Reception in Richmond.  Registration for the reception is $40 per attendee. The Alliance will also provide limited transportation on a first come first serve basis to and from the event (if in the Lynchburg region).  If you would like to ride with us\, please contact Barry Butler at bbutler@lynchburgregion.org or Heath Barret at hbarret@lynchburgregion.org.
X-ALT-DESC;FMTTYPE=text/html:<span style="font-size:16px\;"><span style="font-family:tahoma\;">As a way to show our appreciation for our Lynchburg regional delegation\, and bringing together lawmakers\, statewide elected and administration officials from across Virginia\, join us in celebrating the last week of the 2026 General Assembly Session\, on&nbsp\;<strong>Wednesday\, March 11th</strong>\, the Alliance will host our&nbsp\;<strong>&ldquo\;Almost Done!&rdquo\; End of Session Reception</strong>&nbsp\;in Richmond.&nbsp\; Registration for the reception is $40 per attendee. The Alliance will also provide limited transportation on a first come first serve basis to and from the event (if in the Lynchburg region).&nbsp\; If you would like to ride with us\, please contact Barry Butler at bbutler@lynchburgregion.org or Heath Barret at hbarret@lynchburgregion.org.</span></span>
LOCATION:Bank of America Building 1111 E. Main Street\, 3rd Fl Richmond\, VA 23219
UID:e.2276.9883
SEQUENCE:3
DTSTAMP:20260419T125210Z
URL:https://business.lynchburgregion.org/events/details/almost-done-end-of-session-reception-presented-by-hurt-proffitt-9883
END:VEVENT

END:VCALENDAR
