BEGIN:VCALENDAR
VERSION:2.0
PRODID:-//ChamberMaster//Event Calendar 2.0//EN
METHOD:PUBLISH
X-PUBLISHED-TTL:P3D
REFRESH-INTERVAL:P3D
CALSCALE:GREGORIAN
BEGIN:VEVENT
DTSTART:20241022T120000Z
DTEND:20241022T190000Z
X-MICROSOFT-CDO-ALLDAYEVENT:FALSE
SUMMARY:Altavista Alliance Day
DESCRIPTION:Drop in and connect with LRBA staff and Ambassadors. We will be there to answer questions\, share insight\, and collaborate with other members.
X-ALT-DESC;FMTTYPE=text/html:Drop in and connect with LRBA staff and Ambassadors. We will be there to answer questions\, share insight\, and collaborate with other members.
LOCATION:Spark Innovation Center
UID:e.2276.9097
SEQUENCE:3
DTSTAMP:20260419T172849Z
URL:https://business.lynchburgregion.org/events/details/altavista-alliance-day-9097
END:VEVENT

END:VCALENDAR
