BEGIN:VCALENDAR
VERSION:2.0
PRODID:-//ChamberMaster//Event Calendar 2.0//EN
METHOD:PUBLISH
X-PUBLISHED-TTL:P3D
REFRESH-INTERVAL:P3D
CALSCALE:GREGORIAN
BEGIN:VEVENT
DTSTART:20220923T200000Z
DTEND:20220924T000000Z
X-MICROSOFT-CDO-ALLDAYEVENT:FALSE
SUMMARY:A² Amazing Mile Children’s Run and Virginia 10 Miler Family Festival
DESCRIPTION:The Amazing Mile Children's Run invites area youth ages 13 and under to get up and get moving in downtown Lynchburg! Held in conjunction with the Virginia 10 Miler\, this regional favorite offers an event for every skill level including a one-mile run\, a half-mile run\, and a quarter-mile run. Each year family members and community spectators head downtown to support the children's run and take part in the Virginia 10 Miler Family Festival held at Amazement Square and the surrounding area between Jefferson Street and the James River!
X-ALT-DESC;FMTTYPE=text/html:<div>\n<div>\n<p>The&nbsp\;Amazing Mile Children&rsquo\;s Run&nbsp\;invites area youth ages 13 and under to get up and get moving in downtown Lynchburg! Held in conjunction with the&nbsp\;<a href="https://www.virginiatenmiler.com/" style="background-color: transparent\; color: rgb(117\, 41\, 123)\; text-decoration-line: none\; padding-bottom: 0.05em\; border-bottom: 1px solid rgba(117\, 41\, 123\, 0.3)\; transition: border-color 0.15s ease-out 0s\, color 0.15s ease-out 0s\; overflow-wrap: break-word\;" target="_blank">Virginia 10 Miler</a>\,&nbsp\;this regional favorite offers an event for every skill level including a one-mile run\, a half-mile run\, and a quarter-mile run. Each year family members and community spectators head downtown to support the children&rsquo\;s run and take part in the&nbsp\;Virginia 10 Miler Family Festival&nbsp\;held at Amazement Square and the surrounding area between Jefferson Street and the James River!</p>\n</div>\n</div>\n\n<div>\n<div>&nbsp\;</div>\n</div>\n
LOCATION:Amazement Square and surrounding streets
UID:e.2276.7525
SEQUENCE:3
DTSTAMP:20260421T085703Z
URL:https://business.lynchburgregion.org/events/details/amazing-mile-children-s-run-and-virginia-10-miler-family-festival-7525
END:VEVENT

END:VCALENDAR
