BEGIN:VCALENDAR
VERSION:2.0
PRODID:-//ChamberMaster//Event Calendar 2.0//EN
METHOD:PUBLISH
X-PUBLISHED-TTL:P3D
REFRESH-INTERVAL:P3D
CALSCALE:GREGORIAN
BEGIN:VEVENT
DTSTART:20230603T223000Z
DTEND:20230604T013000Z
X-MICROSOFT-CDO-ALLDAYEVENT:FALSE
SUMMARY:Autism Awareness Night at the Ballpark
DESCRIPTION:Join Puzzled and the Lynchburg Hillcats for Autism Awareness Night at the Ballpark!\n\n\n\nThe night will feature a special jersey auction and ticket fundraising benefiting Puzzled\, a post-game fireworks show\, and of course some Hillcats baseball!\n\n\n\nFirst pitch is scheduled for 6:30 p.m. with gates opening at 5:30 p.m. Use the QR code to get tickets.\n\n\n\n"Putting the pieces together for children with autism and their families."
X-ALT-DESC;FMTTYPE=text/html:Join Puzzled and the Lynchburg Hillcats for Autism Awareness Night at the Ballpark!<br />\n<br />\nThe night will feature a special jersey auction and ticket fundraising benefiting Puzzled\, a post-game fireworks show\, and of course some Hillcats baseball!<br />\n<br />\nFirst pitch is scheduled for 6:30 p.m. with gates opening at 5:30 p.m. Use the QR code to get tickets.<br />\n<br />\n<em>&quot\;Putting the pieces together for children with autism and their families.&quot\;</em>
LOCATION:Bank of the James Stadium
UID:e.2276.7751
SEQUENCE:3
DTSTAMP:20260422T205122Z
URL:https://business.lynchburgregion.org/events/details/autism-awareness-night-at-the-ballpark-7751
END:VEVENT

END:VCALENDAR
