BEGIN:VCALENDAR
VERSION:2.0
PRODID:-//ChamberMaster//Event Calendar 2.0//EN
METHOD:PUBLISH
X-PUBLISHED-TTL:P3D
REFRESH-INTERVAL:P3D
CALSCALE:GREGORIAN
BEGIN:VEVENT
DTSTART:20240907T160000Z
DTEND:20240907T220000Z
X-MICROSOFT-CDO-ALLDAYEVENT:FALSE
SUMMARY:Avoca's 25th Annual Harvest Wine Festival
DESCRIPTION:Kick off your fall season at Avoca!\n\n \n\nFeaturing local wine tastings by DeVault Family Vineyards\, Bright Meadows Farm Vineyard & Winery\, Seven Lady Vineyards\, Fables & Feathers Winery\, Rebec Vineyards\, & Front Four Cellars!\n\n\n\nLive Music\n\n12-3 pm Karlee Raye + Band\n\n3-6 pm The Frequency\n\n\n\n20+ vendors\, hamburgers\, hotdogs\, NC BBQ\, Taco Truck\, Avoca hours tours\, fall photo station\, pumpkin painting\, and yard games\n\n \nNo outside food or drinks allowed. Don't forget your lawn chairs!
X-ALT-DESC;FMTTYPE=text/html:<div>Kick off your fall season at Avoca!</div>\n\n<div>&nbsp\;</div>\n\n<div>Featuring local wine tastings by DeVault Family Vineyards\, Bright Meadows Farm Vineyard &amp\; Winery\, Seven Lady Vineyards\, Fables &amp\; Feathers Winery\, Rebec Vineyards\, &amp\; Front Four Cellars!<br />\n<br />\nLive Music<br />\n12-3 pm Karlee Raye + Band<br />\n3-6 pm The Frequency<br />\n<br />\n20+&nbsp\;vendors\, hamburgers\, hotdogs\, NC BBQ\, Taco Truck\, Avoca hours tours\, fall photo station\, pumpkin painting\, and yard games<br />\n&nbsp\;\n<div>No outside food or drinks allowed. Don&#39\;t forget your lawn chairs!</div>\n</div>\n
LOCATION:Avoca Museum 1514 Main St Altavista\, Virginia 24517
UID:e.2276.8856
SEQUENCE:3
DTSTAMP:20260421T172537Z
URL:https://business.lynchburgregion.org/events/details/avoca-s-25th-annual-harvest-wine-festival-8856
END:VEVENT

END:VCALENDAR
