BEGIN:VCALENDAR
VERSION:2.0
PRODID:-//ChamberMaster//Event Calendar 2.0//EN
METHOD:PUBLISH
X-PUBLISHED-TTL:P3D
REFRESH-INTERVAL:P3D
CALSCALE:GREGORIAN
BEGIN:VEVENT
DTSTART:20220810T113000Z
DTEND:20220810T130000Z
X-MICROSOFT-CDO-ALLDAYEVENT:FALSE
SUMMARY:Business @ Breakfast Presented by Pinnacle Financial Partners Featuring the Minority & Small Business Showcase
DESCRIPTION:Wake up in style with us at Business @ Breakfast! We've brought back our acclaimed morning speakers' series with special guests that provide local insights\, business tips\, and of course\, a delicious hot breakfast. At Business @ Breakfast you'll also meet  new members and build business relationships.\n\n\n\nKishau Rogers is a technology entrepreneur using computer science\, systems thinking\, and common sense to create intelligent human-centered solutions.  As the Founder and CEO of Time Study\, Kishau is the first Black woman in Virginia to raise millions in venture capital to scale her tech startup. In 2018\, Kishau launched TimeStudy Inc.\, a platform that uses artificial intelligence to help enterprises understand the impact of how their employees spend their time. Headquartered in Virginia and New York\, TimeStudy is used by many of the top health systems in the United States. She also founded and operated software consulting firm\, Websmith Inc\, and for over fifteen years\, partnering with leading health & research organizations across the globe in making their software ideas real. \n\n\n\nKishau is featured in national publications including the Wall Street Journal\, Entrepreneur\, NFIB\, Black Enterprise\, and Forbes. She is a recipient of many awards including the VCU Distinguished Alumni (in Computer Science)\, NAWBO Women in STEM award\, the Lyn McDermid Community Impact Award\, and the MBL Entrepreneur of the Year Award.\n\n\n\nKishau grew up in Lynchburg\, Virginia and holds a B.S. in Computer Science from Virginia Commonwealth University.\n\n\n\nMinority & Small Business Showcase\n\nWe will also be celebrating National Black Business Month with a showcase of minority and small businesses in our region. For more information on the showcase\, please contact Denise Jackson\, 434-845-5966\, djackson@lynchburgregion.org\n\n\n\nMinority & Small Business Showcase\n\nCorporate Partners\n\nABC 13\n\nCENTRA\n\nFreedom First Credit Union
X-ALT-DESC;FMTTYPE=text/html:<p><span style="font-size:10.5pt\;">Wake up in style with us at Business @ Breakfast! We&#39\;ve brought back our acclaimed morning speakers&#39\; series with special guests that provide local insights\, business tips\, and of course\, a delicious hot breakfast. At Business @ Breakfast you&#39\;ll also meet&nbsp\; new members and build business relationships.<br />\n<br />\nKishau Rogers is a technology entrepreneur using computer science\, systems thinking\, and&nbsp\;common sense to create intelligent human-centered solutions.&nbsp\;</span> <span style="background:white\;"><span style="color:black\;"><span style="font-size:10.5pt\;">As the Founder and CEO of Time Study\, Kishau is the first Black woman in Virginia to</span></span></span> <span style="font-size:10.5pt\;">raise millions in venture capital to scale her tech startup. In 2018\, Kishau launched TimeStudy Inc.\, a platform that uses artificial intelligence to help enterprises understand the impact of how their employees spend their time. Headquartered in Virginia and New York\, TimeStudy is used by many of the top health systems in the United States. She also founded and operated software consulting firm\, Websmith Inc\, and for over fifteen years\, partnering with leading health &amp\; research organizations across the globe in making their software ideas real.&nbsp\;</span><br />\n<br />\n<span style="font-size:10.5pt\;">Kishau is featured in national publications including the <em>Wall Street Journal</em>\, <em>Entrepreneur</em>\, <em>NFIB</em>\, <em>Black Enterprise</em>\, and <em>Forbes</em>. She is a recipient of many awards including the VCU Distinguished Alumni (in Computer Science)\, NAWBO Women in STEM award\, the Lyn McDermid Community Impact Award\, and the MBL Entrepreneur of the Year Award.</span><br />\n<br />\n<span style="font-size:10.5pt\;">Kishau grew up in Lynchburg\, Virginia and holds a B.S. in Computer Science from Virginia Commonwealth University.</span><br />\n<br />\n<span style="font-size:20px\;"><strong>Minority &amp\; Small Business Showcase</strong></span><br />\nWe will also be celebrating National Black Business Month with a showcase of minority and small businesses in our region. For more information on the showcase\, please contact Denise Jackson\, 434-845-5966\, djackson@lynchburgregion.org<br />\n<br />\n<strong>Minority &amp\; Small Business Showcase<br />\nCorporate Partners</strong><br />\nABC 13<br />\nCENTRA<br />\nFreedom First Credit Union<br />\n<br />\n&nbsp\;</p>\n
LOCATION:Lynchburg Regional Business Alliance 300 Lucado Place Lynchburg\, VA 24504
UID:e.2276.7150
SEQUENCE:3
DTSTAMP:20260423T123959Z
URL:https://business.lynchburgregion.org/events/details/business-breakfast-presented-by-pinnacle-financial-partners-featuring-the-minority-small-business-showcase-7150
END:VEVENT

END:VCALENDAR
