BEGIN:VCALENDAR
VERSION:2.0
PRODID:-//ChamberMaster//Event Calendar 2.0//EN
METHOD:PUBLISH
X-PUBLISHED-TTL:P3D
REFRESH-INTERVAL:P3D
CALSCALE:GREGORIAN
BEGIN:VEVENT
DTSTART:20251206T220000Z
DTEND:20251207T000000Z
X-MICROSOFT-CDO-ALLDAYEVENT:FALSE
SUMMARY:Christmas on the Corner
DESCRIPTION:Visit this year's Christmas on the Corner!\n\nChristmas on the Corner is back\, and it's going to be a night full of family\, laughter\, and holiday cheer! Gather your loved ones and head to Magnolia Street\, where dreams really do come true. From a festive train ride for the kids to exciting games and\, of course\, a special visit from Santa himself\, there's joy waiting for everyone. Sip on hot chocolate\, savor delicious food\, and shop for the perfect gifts while soaking in the magical atmosphere of the season.\n\n\n\nSponsored by The MidState Group\n\n \n\nHosted by: Freedom 4/24\n\n \n\nIn Partnership With: Palmera House | Taco Jesus | Midstate | Freedom Market | Bentley's Rookies | Golf Park Coffee | Mission Thrift | Marsh Roots Seafood The Dahlia\n\n \n\nCurrent Vendors Include:\n\nEverJoy Thrift\n\nEmjem Vintage\n\nThreaded Collective\n\nAbundance Candle Company\n\nLexie & Lee\n\nKAVANAH Candle Co.\n\nEast of the Wood Designs\n\nThe Potted Poodle\n\nKayla's Comfort Cookies\n\nAviella Creations\n\nThe Haven
X-ALT-DESC;FMTTYPE=text/html:<div><strong>Visit this year&rsquo\;s Christmas on the Corner!</strong></div>\n\n<div>Christmas on the Corner is back\, and it&rsquo\;s going to be a night full of family\, laughter\, and holiday cheer! Gather your loved ones and head to Magnolia Street\, where dreams really do come true. From a festive train ride for the kids to exciting games and\, of course\, a special visit from Santa himself\, there&rsquo\;s joy waiting for everyone. Sip on hot chocolate\, savor delicious food\, and shop for the perfect gifts while soaking in the magical atmosphere of the season.<br />\n<br />\n<strong>Sponsored by The MidState Group</strong><br />\n&nbsp\;</div>\n\n<div><strong>Hosted by: Freedom 4/24</strong><br />\n&nbsp\;</div>\n\n<div><strong>In Partnership With: </strong>Palmera House | Taco Jesus | Midstate | Freedom Market | Bentley&rsquo\;s Rookies | Golf Park Coffee | Mission Thrift | Marsh Roots Seafood The Dahlia<br />\n&nbsp\;</div>\n\n<div>Current Vendors Include:<br />\nEverJoy Thrift<br />\nEmjem Vintage<br />\nThreaded Collective<br />\nAbundance Candle Company<br />\nLexie &amp\; Lee<br />\nKAVANAH Candle Co.<br />\nEast of the Wood Designs<br />\nThe Potted Poodle<br />\nKayla&#39\;s Comfort Cookies<br />\nAviella Creations<br />\nThe Haven</div>\n
LOCATION:2306 Bedford Ave\, Lynchburg\, VA\, United States\, Virginia 24503
UID:e.2276.9830
SEQUENCE:3
DTSTAMP:20260420T165238Z
URL:https://business.lynchburgregion.org/events/details/christmas-on-the-corner-9830
END:VEVENT

END:VCALENDAR
