BEGIN:VCALENDAR
VERSION:2.0
PRODID:-//ChamberMaster//Event Calendar 2.0//EN
METHOD:PUBLISH
X-PUBLISHED-TTL:P3D
REFRESH-INTERVAL:P3D
CALSCALE:GREGORIAN
BEGIN:VEVENT
DTSTART:20231117T220000Z
DTEND:20231118T200000Z
X-MICROSOFT-CDO-ALLDAYEVENT:FALSE
SUMMARY:Christmas Open House
DESCRIPTION:Christmas Open House Friday and Saturday.  We will have a special visitor\, too!  Santa Claus will be here Saturday\, November 18th from 10:00 AM - 2:00 PM.
X-ALT-DESC;FMTTYPE=text/html:Christmas Open House Friday and Saturday.&nbsp\; We will have a special visitor\, too!&nbsp\; Santa Claus will be here Saturday\, November 18th from 10:00 AM - 2:00 PM.
LOCATION:bloom by Doyle's 4925 Boonsboro Road Lynchburg\, VA 24503
UID:e.2276.7910
SEQUENCE:3
DTSTAMP:20260422T072350Z
URL:https://business.lynchburgregion.org/events/details/christmas-open-house-11-17-2023-7910
END:VEVENT

END:VCALENDAR
