BEGIN:VCALENDAR
VERSION:2.0
PRODID:-//ChamberMaster//Event Calendar 2.0//EN
METHOD:PUBLISH
X-PUBLISHED-TTL:P3D
REFRESH-INTERVAL:P3D
CALSCALE:GREGORIAN
BEGIN:VEVENT
DTSTART:20231004T130000Z
DTEND:20231004T180000Z
X-MICROSOFT-CDO-ALLDAYEVENT:FALSE
SUMMARY:CVCC Fall Career Fair
DESCRIPTION:Central Virginia Community College's Fall Career Fair is open to students\, alumni\, and friends. Our multipurpose room and large classroom across the hall provide an inviting environment for employers to find their next star employees. ALL Industries are welcome. Employers must register through College Central.\nThis event is not intended for vendors or multi-level marketing opportunities.\n\nNOTE: Displays should fit on your table or behind it with your representatives. Due to space constraints of our facility and trying to keep all participants in our only large room\, we cannot accommodate floor displays that extend into the aisles in any direction.
X-ALT-DESC;FMTTYPE=text/html:Central Virginia Community College&#39\;s Fall Career Fair is open to students\, alumni\, and friends. Our multipurpose room and large classroom across the hall provide an inviting environment for employers to find their next star employees. ALL Industries are welcome. Employers must register through <a href="www.collegecentral.com/CVCC/">College Central</a>.\n<p>This event is not intended for vendors or multi-level marketing opportunities.</p>\n\n<p>NOTE: Displays should fit on your table or behind it with your representatives. Due to space constraints of our facility and trying to keep all participants in our only large room\, we cannot accommodate floor displays that extend into the aisles in any direction.</p>\n
LOCATION:Free parking is available to Employers and Job Seekers in Student Lots 1 and 2. (no pass needed) If needed\, employers may unload close to Merritt Hall (access through though Faculty/Staff Lot 4) prior to parking if needed. Handicapped parking is available in Lot 4 as well. Parking Map: https://centralvirginia.edu/Campus-Life/Parking Directions to CVCC: For GPS mapping\, our official street address is: 3506 Wards Road\, Lynchburg\, VA 24502. Southbound on US Route 29 Take the US 29S/Danville exit and turn right at the end of the exit ramp. Stay in the right lane and turn right onto CVCC Campus Drive at the stoplight. See directions below for "After you are on CVCC Campus Drive". Eastbound on US Route 460 Take the 29N/Lynchburg exit and get into the left lane at the end of the off ramp. Continue on until you pass Wal-Mart on the left-hand side of the highway\, then turn left at the next stoplight. You will then be on CVCC Campus Drive. See directions below for "After you are on CVCC Campus Drive". West bound on US Route 460 Take the 29N/Lynchburg exit. Get in the left lane and turn left at the third stoplight. You will then be on CVCC Campus Drive. See directions below for "After you are on CVCC Campus Drive". Northbound on US Route 29 After you pass the Lynchburg Airport you will pass under an overpass. This overpass is the city limits of Lynchburg. Get into the left lane and continue on until you pass Wal-Mart on the left-hand side of the highway\, then turn left at the next stop light. You will then be on CVCC Campus Drive. See directions below for "After you are on CVCC Campus Drive". After you are on CVCC Campus Drive CVCC is near the top of the hill on the right-hand side of CVCC Campus Drive and should be visible soon after you make the turn. Take the second entrance on the right\, which is the one nearest the Central Virginia Community College sign.
UID:e.2276.7806
SEQUENCE:3
DTSTAMP:20260422T053347Z
URL:https://business.lynchburgregion.org/events/details/cvcc-fall-career-fair-7806
END:VEVENT

END:VCALENDAR
