BEGIN:VCALENDAR
VERSION:2.0
PRODID:-//ChamberMaster//Event Calendar 2.0//EN
METHOD:PUBLISH
X-PUBLISHED-TTL:P3D
REFRESH-INTERVAL:P3D
CALSCALE:GREGORIAN
BEGIN:VEVENT
DTSTART:20231006T200000Z
DTEND:20231006T220000Z
X-MICROSOFT-CDO-ALLDAYEVENT:FALSE
SUMMARY:First Friday at 2204 Bedford Ave
DESCRIPTION:Join us at 2204 Bedford Ave for FIRST FRIDAY! \n\n\n\nGrab a pumpkin muffin from The Flour District along with a bottle of wine to share on the patio!\n\n\n\nFree Wine tasting hosted by The Flour District & Scratch Pasta Co!\n\n\n\nMarket Vendors include Great Day Gardens\, Giddy Goose Flowers\, and Good Karma Tea Co will be set up!
X-ALT-DESC;FMTTYPE=text/html:Join us at 2204 Bedford Ave for FIRST FRIDAY!&nbsp\;<br />\n<br />\nGrab a pumpkin muffin from The Flour District along with a bottle of wine to share on the patio!<br />\n<br />\nFree Wine tasting hosted by The Flour District &amp\; Scratch Pasta Co!<br />\n<br />\nMarket Vendors include Great Day Gardens\, Giddy Goose Flowers\, and Good Karma Tea Co will be set up!
LOCATION:2204 Bedford Ave Lynchburg\, Va 24503
UID:e.2276.7841
SEQUENCE:3
DTSTAMP:20260422T053423Z
URL:https://business.lynchburgregion.org/events/details/first-friday-at-2204-bedford-ave-7841
END:VEVENT

END:VCALENDAR
