BEGIN:VCALENDAR
VERSION:2.0
PRODID:-//ChamberMaster//Event Calendar 2.0//EN
METHOD:PUBLISH
X-PUBLISHED-TTL:P3D
REFRESH-INTERVAL:P3D
CALSCALE:GREGORIAN
BEGIN:VEVENT
DTSTART:20240531T210000Z
DTEND:20240601T010000Z
X-MICROSOFT-CDO-ALLDAYEVENT:FALSE
SUMMARY:Friyay Cheers at Avoca Museum
DESCRIPTION:The Friyay Cheers Concert Series is a celebration of music\, community\, and the joy of coming together. Don't miss out on this incredible opportunity to experience the magic of live performances in a captivating outdoor setting.
X-ALT-DESC;FMTTYPE=text/html:<h4 style="text-align:center">The Friyay Cheers Concert Series is a <em>celebration</em> of music\, community\, and the joy of coming together. Don&#39\;t miss out on this incredible opportunity to experience the magic of live performances in a captivating outdoor setting.</h4>\n
LOCATION:Avoca Museum 1514 Main St Altavista\, VA 24517
UID:e.2276.8799
SEQUENCE:3
DTSTAMP:20260422T000701Z
URL:https://business.lynchburgregion.org/events/details/friyay-cheers-8799
END:VEVENT

END:VCALENDAR
