BEGIN:VCALENDAR
VERSION:2.0
PRODID:-//ChamberMaster//Event Calendar 2.0//EN
METHOD:PUBLISH
X-PUBLISHED-TTL:P3D
REFRESH-INTERVAL:P3D
CALSCALE:GREGORIAN
BEGIN:VEVENT
DTSTART:20251206T190000Z
DTEND:20251206T210000Z
X-MICROSOFT-CDO-ALLDAYEVENT:FALSE
SUMMARY:Happy Holidays with the Lynchburg Symphony Orchestra
DESCRIPTION:Celebrate the season with festive music and familiar favorites. Beloved soprano Adelaide Trombetta returns to the LSO for a joyful evening of holiday classics\, sparkling pops arrangements\, and a few surprises! Making their LSO debut\, Lynchburg's own "The Seven Hills Chorus" joins the fun for a concert full of community spirit and holiday cheer.\n\nNew this year\, two performances to choose from! Both on December 6th\, 2:00 pm and 7:30 pm.\n\n\n\n\n\n\nTickets: https://academycenter.org/event/happy-holidays-with-the-lso-2025/
X-ALT-DESC;FMTTYPE=text/html:<div style="margin-left:auto\; margin-right:auto">\n<div>\n<div>\n<p>Celebrate the season with festive music and familiar favorites. Beloved soprano Adelaide Trombetta returns to the LSO for a joyful evening of holiday classics\, sparkling pops arrangements\, and a few surprises! Making their LSO debut\, Lynchburg&rsquo\;s own &ldquo\;The Seven Hills Chorus&rdquo\; joins the fun for a concert full of community spirit and holiday cheer.</p>\n\n<div>New this year\, two performances to choose from! Both on December 6th\, 2:00 pm and 7:30 pm.</div>\n</div>\n</div>\n</div>\n\n<div style="margin-left:auto\; margin-right:auto">\n<div>\n<div>Tickets:&nbsp\;<a href="https://academycenter.org/event/happy-holidays-with-the-lso-2025/">https://academycenter.org/event/happy-holidays-with-the-lso-2025/</a></div>\n</div>\n</div>\n
LOCATION:Academy Center of the Arts Historic Theater\, 600 Main Street Lynchburg VA
UID:e.2276.9832
SEQUENCE:3
DTSTAMP:20260420T165433Z
URL:https://business.lynchburgregion.org/events/details/happy-holidays-with-the-lynchburg-symphony-orchestra-9832
END:VEVENT

END:VCALENDAR
