BEGIN:VCALENDAR
VERSION:2.0
PRODID:-//ChamberMaster//Event Calendar 2.0//EN
METHOD:PUBLISH
X-PUBLISHED-TTL:P3D
REFRESH-INTERVAL:P3D
CALSCALE:GREGORIAN
BEGIN:VEVENT
DTSTART;VALUE=DATE:20251004
DTEND;VALUE=DATE:20251005
TRANSP:TRANSPARENT
X-MICROSOFT-CDO-ALLDAYEVENT:TRUE
SUMMARY:Impact Living Services: Pickle Pair-Off Pickleball Tournament
DESCRIPTION:We're excited to announce that registration is officially OPEN for Impact Living Services' Pickle Pair-Off\, our doubles pickleball tournament happening Saturday\, October 4\, 2025\, at Crosswhite Fitness in Lynchburg\, VA!\n\nThis high-energy\, fun-filled event is more than just a game it's a chance to make a difference in the lives of youth impacted by foster care. Every serve\, volley\, and point scored helps us provide housing\, mentorship\, counseling\, and life skills training for young people transitioning into adulthood.\n\nHere's how you can get involved:\n\n\n	\n	Sign up to play! Gather your favorite "Dynamic Duo" and register your team today. Costumes and creative team names are highly encouraged\, with prizes for the best dressed pairs!\n	\n	\n	Spread the word! Invite friends\, family\, and coworkers to join or come out and cheer on the teams.\n	\n	\n	Volunteer or sponsor. We need helping hands and generous partners to make this event a success.\n	\n\n\n?? Click here to register now   spots are limited\, and we don't want you to miss out!\n\nThank you for being a part of the Impact community. With your help\, we're changing lives and creating brighter futures for youth in foster care one pickleball match at a time.\n\nWith gratitude\,\n\nThe Impact Living Services Team
X-ALT-DESC;FMTTYPE=text/html:<p>We&rsquo\;re excited to announce that&nbsp\;<strong>registration is officially OPEN</strong>&nbsp\;for Impact Living Services&rsquo\;&nbsp\;<strong>Pickle Pair-Off</strong>\, our doubles pickleball tournament happening&nbsp\;<strong>Saturday\, October 4\, 2025\, at Crosswhite Fitness in Lynchburg\, VA</strong>!</p>\n\n<p>This high-energy\, fun-filled event is more than just a game&mdash\;it&rsquo\;s a chance to make a difference in the lives of youth impacted by foster care. Every serve\, volley\, and point scored helps us provide housing\, mentorship\, counseling\, and life skills training for young people transitioning into adulthood.</p>\n\n<p>Here&rsquo\;s how you can get involved:</p>\n\n<ul>\n	<li>\n	<p><strong>Sign up to play!</strong>&nbsp\;Gather your favorite &ldquo\;Dynamic Duo&rdquo\; and register your team today. Costumes and creative team names are highly encouraged\, with prizes for the best dressed pairs!</p>\n	</li>\n	<li>\n	<p><strong>Spread the word!</strong>&nbsp\;Invite friends\, family\, and coworkers to join or come out and cheer on the teams.</p>\n	</li>\n	<li>\n	<p><strong>Volunteer or sponsor.</strong>&nbsp\;We need helping hands and generous partners to make this event a success.</p>\n	</li>\n</ul>\n\n<p>??&nbsp\;<strong><a href="https://d2v5y404.na1.hubspotlinks.com/Ctc/I9+113/d2V5y404/VWlbH57rL_r2W3TgWwZ3-hYhFW2L--MX5zRwx8N6-TN-l3m2nnW7Y8-PT6lZ3nlW3MHnnH2P1XtDW6VMVnw7P9368W6wB5Vy3rWy-rV2WG8R90CNdhW7DG5qt8JXCzHVTnTzX4pM95nV4DgdF47kNZRW6LPXHN5J-kGBW6j03_T1G6qJZW7K4YZT2hcFVjN2_2Z3q70-lzW1h0zrJ5gVgY-W23rzWk8ltJLdW1yg1sD8XF6BbW167wH02NT40pW2QVwGH43b0fJW3dHvjH1LW3qwW7Q5pDp29fjbCW10--dF4WKKWGW4SpdD-6TxxvbN3pJKmfmzstvW7Mgqrv7LjwG1Vfj9KQ5dYFn3W5GdjpQ6VdcgLW8P3Gj_6vpxMrW960r6B85v9Dpf2M2zq-04" rel="noopener" style="color: rgb(0\, 164\, 189)\;" title="https://d2V5y404.na1.hubspotlinks.com/Ctc/I9+113/d2V5y404/VWlbH57rL_r2W3TgWwZ3-hYhFW2L--MX5zRwx8N6-TN-l3m2nnW7Y8-PT6lZ3nlW3MHnnH2P1XtDW6VMVnw7P9368W6wB5Vy3rWy-rV2WG8R90CNdhW7DG5qt8JXCzHVTnTzX4pM95nV4DgdF47kNZRW6LPXHN5J-kGBW6j03_T1G6qJZW7K4YZT2hcFVjN2_2Z3q70-lzW1h0zrJ5gVgY-W23rzWk8ltJLdW1yg1sD8XF6BbW167wH02NT40pW2QVwGH43b0fJW3dHvjH1LW3qwW7Q5pDp29fjbCW10--dF4WKKWGW4SpdD-6TxxvbN3pJKmfmzstvW7Mgqrv7LjwG1Vfj9KQ5dYFn3W5GdjpQ6VdcgLW8P3Gj_6vpxMrW960r6B85v9Dpf2M2zq-04">Click here to register now</a></strong>&nbsp\;&ndash\; spots are limited\, and we don&rsquo\;t want you to miss out!</p>\n\n<p>Thank you for being a part of the Impact community. With your help\, we&rsquo\;re changing lives and creating brighter futures for youth in foster care&mdash\;one pickleball match at a time.</p>\n\n<p>With gratitude\,</p>\n\n<p>The Impact Living Services Team</p>\n
LOCATION:Crosswhite Fitness 118 Davis Cup Rd. Lynchburg\, VA 24502
UID:e.2276.9422
SEQUENCE:3
DTSTAMP:20260420T202513Z
URL:https://business.lynchburgregion.org/events/details/impact-living-services-pickle-pair-off-pickleball-tournament-9422
END:VEVENT

END:VCALENDAR
