BEGIN:VCALENDAR
VERSION:2.0
PRODID:-//ChamberMaster//Event Calendar 2.0//EN
METHOD:PUBLISH
X-PUBLISHED-TTL:P3D
REFRESH-INTERVAL:P3D
CALSCALE:GREGORIAN
BEGIN:VEVENT
DTSTART;VALUE=DATE:20251213
DTEND;VALUE=DATE:20251214
TRANSP:TRANSPARENT
X-MICROSOFT-CDO-ALLDAYEVENT:TRUE
SUMMARY:Interfaith Outreach Association Downtown Lynchburg Historic Church Open House on December 13
DESCRIPTION:Celebrate the Spirit of the Season with the Interfaith Outreach Association Downtown Lynchburg Historic Church Open House on December 13\n\n \n\nAre you looking for a joyful way to embrace the holiday season? Join us for Interfaith Outreach Association's Annual Downtown Lynchburg Historic Church Open House on  Saturday\, December 13\, from 9:15 AM to 1:30 PM   a cherished Lynchburg tradition filled with music\, community\, and the joy of the holidays. Step inside some of downtown's most beautiful historic churches and experience the wonder of the season through a series of uplifting 15-minute holiday concerts. From stirring choirs to peaceful candlelit sanctuaries\, each stop offers a glimpse of our city's faith\, history\, and hope   all within just five blocks of downtown.\n\n \n\nConcert Schedule\n\n 5th Street Baptist Church   9:15 AM\n\n Diamond Hill Baptist Church   10:00 AM\n\n Jackson Street United Methodist Church   10:45 AM\n\n Holy Cross Catholic Church   11:30 AM\n\n Court Street Baptist Church   12:00 PM\n\n First Unitarian Universalist Congregation   12:30 PM\n\n Church of the Good Shepherd with special guest Agudath Sholom Synagogue   1:00 PM\n\n \n\n \n\nWhat's new this year? 5th Street Baptist Church and Church of the Good Shepherd will be joining us this year.\n\nFor details\, visit www.interfaithoutreach.org or follow us on Facebook and Instagram.\n\n \n\n \n\nMedia only-\n\nFor more information- contact\n\nShawne Farmer\, Executive Director- Interfaith Outreach Association\n\ndirector@interfaithoutreach.org\n\ncell- (434) 258.3177
X-ALT-DESC;FMTTYPE=text/html:<p class="x_gmail-msonospacing" style="margin: 0in\; font-size: 12pt\; font-family: Aptos\, sans-serif\; color: rgb(36\, 36\, 36)\;"><span data-olk-copy-source="MessageBody" style="border: 0px\; font-style: inherit\; font-variant: inherit\; font-weight: inherit\; font-stretch: inherit\; font-size: 11pt\; line-height: inherit\; font-family: Calibri\, sans-serif\; font-optical-sizing: inherit\; font-size-adjust: inherit\; font-kerning: inherit\; font-feature-settings: inherit\; font-variation-settings: inherit\; margin: 0px\; padding: 0px\; vertical-align: baseline\; color: inherit\;">Celebrate the Spirit of the Season with the Interfaith Outreach Association Downtown Lynchburg Historic Church Open House on December 13</span></p>\n\n<p class="x_gmail-msonospacing" style="margin: 0in\; font-size: 12pt\; font-family: Aptos\, sans-serif\; color: rgb(36\, 36\, 36)\;"><span style="border: 0px\; font-style: inherit\; font-variant: inherit\; font-weight: inherit\; font-stretch: inherit\; font-size: 11pt\; line-height: inherit\; font-family: Calibri\, sans-serif\; font-optical-sizing: inherit\; font-size-adjust: inherit\; font-kerning: inherit\; font-feature-settings: inherit\; font-variation-settings: inherit\; margin: 0px\; padding: 0px\; vertical-align: baseline\; color: inherit\;">&nbsp\;</span></p>\n\n<p class="x_gmail-msonospacing" style="margin: 0in\; font-size: 12pt\; font-family: Aptos\, sans-serif\; color: rgb(36\, 36\, 36)\;"><span style="border: 0px\; font-style: inherit\; font-variant: inherit\; font-weight: inherit\; font-stretch: inherit\; font-size: 11pt\; line-height: inherit\; font-family: Calibri\, sans-serif\; font-optical-sizing: inherit\; font-size-adjust: inherit\; font-kerning: inherit\; font-feature-settings: inherit\; font-variation-settings: inherit\; margin: 0px\; padding: 0px\; vertical-align: baseline\; color: inherit\;">Are you looking for a joyful way to embrace the holiday season? Join us for Interfaith Outreach&nbsp\;Association&rsquo\;s Annual Downtown Lynchburg Historic Church Open House on&nbsp\; Saturday\, December 13\, from 9:15 AM&nbsp\;to 1:30 PM &mdash\; a cherished Lynchburg tradition filled with music\, community\, and the joy of the holidays. Step inside some of downtown&rsquo\;s most beautiful historic churches and experience the wonder of the season through a series of uplifting 15-minute holiday concerts. From stirring choirs to peaceful candlelit sanctuaries\, each stop offers a glimpse of our city&rsquo\;s faith\, history\, and hope &mdash\; all within just five blocks of downtown.</span></p>\n\n<p class="x_gmail-msonospacing" style="margin: 0in\; font-size: 12pt\; font-family: Aptos\, sans-serif\; color: rgb(36\, 36\, 36)\;"><span style="border: 0px\; font-style: inherit\; font-variant: inherit\; font-weight: inherit\; font-stretch: inherit\; font-size: 11pt\; line-height: inherit\; font-family: Calibri\, sans-serif\; font-optical-sizing: inherit\; font-size-adjust: inherit\; font-kerning: inherit\; font-feature-settings: inherit\; font-variation-settings: inherit\; margin: 0px\; padding: 0px\; vertical-align: baseline\; color: inherit\;">&nbsp\;</span></p>\n\n<p class="x_gmail-msonospacing" style="margin: 0in\; font-size: 12pt\; font-family: Aptos\, sans-serif\; color: rgb(36\, 36\, 36)\;"><span style="border: 0px\; font-style: inherit\; font-variant: inherit\; font-weight: inherit\; font-stretch: inherit\; font-size: 11pt\; line-height: inherit\; font-family: Calibri\, sans-serif\; font-optical-sizing: inherit\; font-size-adjust: inherit\; font-kerning: inherit\; font-feature-settings: inherit\; font-variation-settings: inherit\; margin: 0px\; padding: 0px\; vertical-align: baseline\; color: inherit\;">Concert Schedule</span></p>\n\n<p class="x_gmail-msonospacing" style="margin: 0in\; font-size: 12pt\; font-family: Aptos\, sans-serif\; color: rgb(36\, 36\, 36)\;"><span style="border: 0px\; font-style: inherit\; font-variant: inherit\; font-weight: inherit\; font-stretch: inherit\; font-size: 11pt\; line-height: inherit\; font-family: Calibri\, sans-serif\; font-optical-sizing: inherit\; font-size-adjust: inherit\; font-kerning: inherit\; font-feature-settings: inherit\; font-variation-settings: inherit\; margin: 0px\; padding: 0px\; vertical-align: baseline\; color: inherit\;">&nbsp\;5th Street Baptist Church &ndash\; 9:15 AM</span></p>\n\n<p class="x_gmail-msonospacing" style="margin: 0in\; font-size: 12pt\; font-family: Aptos\, sans-serif\; color: rgb(36\, 36\, 36)\;"><span style="border: 0px\; font-style: inherit\; font-variant: inherit\; font-weight: inherit\; font-stretch: inherit\; font-size: 11pt\; line-height: inherit\; font-family: Calibri\, sans-serif\; font-optical-sizing: inherit\; font-size-adjust: inherit\; font-kerning: inherit\; font-feature-settings: inherit\; font-variation-settings: inherit\; margin: 0px\; padding: 0px\; vertical-align: baseline\; color: inherit\;">&nbsp\;Diamond Hill Baptist Church &ndash\; 10:00 AM</span></p>\n\n<p class="x_gmail-msonospacing" style="margin: 0in\; font-size: 12pt\; font-family: Aptos\, sans-serif\; color: rgb(36\, 36\, 36)\;"><span style="border: 0px\; font-style: inherit\; font-variant: inherit\; font-weight: inherit\; font-stretch: inherit\; font-size: 11pt\; line-height: inherit\; font-family: Calibri\, sans-serif\; font-optical-sizing: inherit\; font-size-adjust: inherit\; font-kerning: inherit\; font-feature-settings: inherit\; font-variation-settings: inherit\; margin: 0px\; padding: 0px\; vertical-align: baseline\; color: inherit\;">&nbsp\;Jackson Street United Methodist Church &ndash\; 10:45 AM</span></p>\n\n<p class="x_gmail-msonospacing" style="margin: 0in\; font-size: 12pt\; font-family: Aptos\, sans-serif\; color: rgb(36\, 36\, 36)\;"><span style="border: 0px\; font-style: inherit\; font-variant: inherit\; font-weight: inherit\; font-stretch: inherit\; font-size: 11pt\; line-height: inherit\; font-family: Calibri\, sans-serif\; font-optical-sizing: inherit\; font-size-adjust: inherit\; font-kerning: inherit\; font-feature-settings: inherit\; font-variation-settings: inherit\; margin: 0px\; padding: 0px\; vertical-align: baseline\; color: inherit\;">&nbsp\;Holy Cross Catholic Church &ndash\; 11:30 AM</span></p>\n\n<p class="x_gmail-msonospacing" style="margin: 0in\; font-size: 12pt\; font-family: Aptos\, sans-serif\; color: rgb(36\, 36\, 36)\;"><span style="border: 0px\; font-style: inherit\; font-variant: inherit\; font-weight: inherit\; font-stretch: inherit\; font-size: 11pt\; line-height: inherit\; font-family: Calibri\, sans-serif\; font-optical-sizing: inherit\; font-size-adjust: inherit\; font-kerning: inherit\; font-feature-settings: inherit\; font-variation-settings: inherit\; margin: 0px\; padding: 0px\; vertical-align: baseline\; color: inherit\;">&nbsp\;Court Street Baptist Church &ndash\; 12:00 PM</span></p>\n\n<p class="x_gmail-msonospacing" style="margin: 0in\; font-size: 12pt\; font-family: Aptos\, sans-serif\; color: rgb(36\, 36\, 36)\;"><span style="border: 0px\; font-style: inherit\; font-variant: inherit\; font-weight: inherit\; font-stretch: inherit\; font-size: 11pt\; line-height: inherit\; font-family: Calibri\, sans-serif\; font-optical-sizing: inherit\; font-size-adjust: inherit\; font-kerning: inherit\; font-feature-settings: inherit\; font-variation-settings: inherit\; margin: 0px\; padding: 0px\; vertical-align: baseline\; color: inherit\;">&nbsp\;First Unitarian Universalist Congregation &ndash\; 12:30 PM</span></p>\n\n<p class="x_gmail-msonospacing" style="margin: 0in\; font-size: 12pt\; font-family: Aptos\, sans-serif\; color: rgb(36\, 36\, 36)\;"><span style="border: 0px\; font-style: inherit\; font-variant: inherit\; font-weight: inherit\; font-stretch: inherit\; font-size: 11pt\; line-height: inherit\; font-family: Calibri\, sans-serif\; font-optical-sizing: inherit\; font-size-adjust: inherit\; font-kerning: inherit\; font-feature-settings: inherit\; font-variation-settings: inherit\; margin: 0px\; padding: 0px\; vertical-align: baseline\; color: inherit\;">&nbsp\;Church of the Good Shepherd with special guest Agudath Sholom Synagogue &ndash\; 1:00 PM</span></p>\n\n<p class="x_gmail-msonospacing" style="margin: 0in\; font-size: 12pt\; font-family: Aptos\, sans-serif\; color: rgb(36\, 36\, 36)\;"><span style="border: 0px\; font-style: inherit\; font-variant: inherit\; font-weight: inherit\; font-stretch: inherit\; font-size: 11pt\; line-height: inherit\; font-family: Calibri\, sans-serif\; font-optical-sizing: inherit\; font-size-adjust: inherit\; font-kerning: inherit\; font-feature-settings: inherit\; font-variation-settings: inherit\; margin: 0px\; padding: 0px\; vertical-align: baseline\; color: inherit\;">&nbsp\;</span></p>\n\n<p class="x_gmail-msonospacing" style="margin: 0in\; font-size: 12pt\; font-family: Aptos\, sans-serif\; color: rgb(36\, 36\, 36)\;"><span style="border: 0px\; font-style: inherit\; font-variant: inherit\; font-weight: inherit\; font-stretch: inherit\; font-size: 11pt\; line-height: inherit\; font-family: Calibri\, sans-serif\; font-optical-sizing: inherit\; font-size-adjust: inherit\; font-kerning: inherit\; font-feature-settings: inherit\; font-variation-settings: inherit\; margin: 0px\; padding: 0px\; vertical-align: baseline\; color: inherit\;">&nbsp\;</span></p>\n\n<p class="x_gmail-msonospacing" style="margin: 0in\; font-size: 12pt\; font-family: Aptos\, sans-serif\; color: rgb(36\, 36\, 36)\;"><span style="border: 0px\; font-style: inherit\; font-variant: inherit\; font-weight: inherit\; font-stretch: inherit\; font-size: 11pt\; line-height: inherit\; font-family: Calibri\, sans-serif\; font-optical-sizing: inherit\; font-size-adjust: inherit\; font-kerning: inherit\; font-feature-settings: inherit\; font-variation-settings: inherit\; margin: 0px\; padding: 0px\; vertical-align: baseline\; color: inherit\;">What&rsquo\;s new this year? 5<sup>th</sup>&nbsp\;Street Baptist Church and Church of the Good Shepherd will be joining us this year.</span></p>\n\n<p class="x_gmail-msonospacing" style="margin: 0in\; font-size: 12pt\; font-family: Aptos\, sans-serif\; color: rgb(36\, 36\, 36)\;"><span style="border: 0px\; font-style: inherit\; font-variant: inherit\; font-weight: inherit\; font-stretch: inherit\; font-size: 11pt\; line-height: inherit\; font-family: Calibri\, sans-serif\; font-optical-sizing: inherit\; font-size-adjust: inherit\; font-kerning: inherit\; font-feature-settings: inherit\; font-variation-settings: inherit\; margin: 0px\; padding: 0px\; vertical-align: baseline\; color: inherit\;">For details\, visit&nbsp\;<a data-auth="NotApplicable" data-linkindex="8" href="https://us-east-2.protection.sophos.com/?d=interfaithoutreach.org&amp\;u=aHR0cDovL3d3dy5pbnRlcmZhaXRob3V0cmVhY2gub3Jn&amp\;i=NWUzYjAxMDIwZTJiNDcxNmI0ZjljN2M5&amp\;t=VmU1MkRsMXQzdmVwYTNtdFNRTm1xaDJyOEJBQ0FtK2xnTXhFZUJyUWdtaz0=&amp\;h=542467143ebf4d96be63f0790651da2e&amp\;s=AVNPUEhUT0NFTkNSWVBUSVabr7PWaxgmznEQwOZp74COp7mLF4wlQi_pgNJR48ig4Q" style="border: 0px\; font: inherit\; margin: 0px\; padding: 0px\; vertical-align: baseline\; color: blue\;" title="https://us-east-2.protection.sophos.com?d=interfaithoutreach.org&amp\;u=aHR0cDovL3d3dy5pbnRlcmZhaXRob3V0cmVhY2gub3Jn&amp\;i=NWUzYjAxMDIwZTJiNDcxNmI0ZjljN2M5&amp\;t=VmU1MkRsMXQzdmVwYTNtdFNRTm1xaDJyOEJBQ0FtK2xnTXhFZUJyUWdtaz0=&amp\;h=542467143ebf4d96be63f0790651da2e&amp\;s=AVNPUEhUT0NFTkNSWVBUSVabr7PWaxgmznEQwOZp74COp7mLF4wlQi_pgNJR48ig4Q">www.interfaithoutreach.org</a>&nbsp\;or follow us on Facebook and Instagram.</span></p>\n\n<p class="x_gmail-msonospacing" style="margin: 0in\; font-size: 12pt\; font-family: Aptos\, sans-serif\; color: rgb(36\, 36\, 36)\;"><span style="border: 0px\; font-style: inherit\; font-variant: inherit\; font-weight: inherit\; font-stretch: inherit\; font-size: 11pt\; line-height: inherit\; font-family: Calibri\, sans-serif\; font-optical-sizing: inherit\; font-size-adjust: inherit\; font-kerning: inherit\; font-feature-settings: inherit\; font-variation-settings: inherit\; margin: 0px\; padding: 0px\; vertical-align: baseline\; color: inherit\;">&nbsp\;</span></p>\n\n<p class="x_gmail-msonospacing" style="margin: 0in\; font-size: 12pt\; font-family: Aptos\, sans-serif\; color: rgb(36\, 36\, 36)\;"><span style="border: 0px\; font-style: inherit\; font-variant: inherit\; font-weight: inherit\; font-stretch: inherit\; font-size: 11pt\; line-height: inherit\; font-family: Calibri\, sans-serif\; font-optical-sizing: inherit\; font-size-adjust: inherit\; font-kerning: inherit\; font-feature-settings: inherit\; font-variation-settings: inherit\; margin: 0px\; padding: 0px\; vertical-align: baseline\; color: inherit\;">&nbsp\;</span></p>\n\n<p class="x_gmail-msonospacing" style="margin: 0in\; font-size: 12pt\; font-family: Aptos\, sans-serif\; color: rgb(36\, 36\, 36)\;"><span style="border: 0px\; font-style: inherit\; font-variant: inherit\; font-weight: inherit\; font-stretch: inherit\; font-size: 11pt\; line-height: inherit\; font-family: Calibri\, sans-serif\; font-optical-sizing: inherit\; font-size-adjust: inherit\; font-kerning: inherit\; font-feature-settings: inherit\; font-variation-settings: inherit\; margin: 0px\; padding: 0px\; vertical-align: baseline\; color: inherit\;">Media only-</span></p>\n\n<p class="x_gmail-msonospacing" style="margin: 0in\; font-size: 12pt\; font-family: Aptos\, sans-serif\; color: rgb(36\, 36\, 36)\;"><span style="border: 0px\; font-style: inherit\; font-variant: inherit\; font-weight: inherit\; font-stretch: inherit\; font-size: 11pt\; line-height: inherit\; font-family: Calibri\, sans-serif\; font-optical-sizing: inherit\; font-size-adjust: inherit\; font-kerning: inherit\; font-feature-settings: inherit\; font-variation-settings: inherit\; margin: 0px\; padding: 0px\; vertical-align: baseline\; color: inherit\;">For more information- contact</span></p>\n\n<p class="x_gmail-msonospacing" style="margin: 0in\; font-size: 12pt\; font-family: Aptos\, sans-serif\; color: rgb(36\, 36\, 36)\;"><span style="border: 0px\; font-style: inherit\; font-variant: inherit\; font-weight: inherit\; font-stretch: inherit\; font-size: 11pt\; line-height: inherit\; font-family: Calibri\, sans-serif\; font-optical-sizing: inherit\; font-size-adjust: inherit\; font-kerning: inherit\; font-feature-settings: inherit\; font-variation-settings: inherit\; margin: 0px\; padding: 0px\; vertical-align: baseline\; color: inherit\;">Shawne Farmer\, Executive Director- Interfaith Outreach Association</span></p>\n\n<p class="x_gmail-msonospacing" style="margin: 0in\; font-size: 12pt\; font-family: Aptos\, sans-serif\; color: rgb(36\, 36\, 36)\;"><span style="border: 0px\; font-style: inherit\; font-variant: inherit\; font-weight: inherit\; font-stretch: inherit\; font-size: 11pt\; line-height: inherit\; font-family: Calibri\, sans-serif\; font-optical-sizing: inherit\; font-size-adjust: inherit\; font-kerning: inherit\; font-feature-settings: inherit\; font-variation-settings: inherit\; margin: 0px\; padding: 0px\; vertical-align: baseline\; color: inherit\;"><a data-linkindex="9" href="mailto:director@interfaithoutreach.org" style="border: 0px\; font: inherit\; margin: 0px\; padding: 0px\; vertical-align: baseline\; color: blue\;" title="mailto:director@interfaithoutreach.org"><span style="border: 0px\; font: inherit\; margin: 0px\; padding: 0px\; vertical-align: baseline\; color: rgb(5\, 99\, 193) !important\;">director@interfaithoutreach.org</span></a></span></p>\n\n<p class="x_gmail-msonospacing" style="margin: 0in\; font-size: 12pt\; font-family: Aptos\, sans-serif\; color: rgb(36\, 36\, 36)\;"><span style="border: 0px\; font-style: inherit\; font-variant: inherit\; font-weight: inherit\; font-stretch: inherit\; font-size: 11pt\; line-height: inherit\; font-family: Calibri\, sans-serif\; font-optical-sizing: inherit\; font-size-adjust: inherit\; font-kerning: inherit\; font-feature-settings: inherit\; font-variation-settings: inherit\; margin: 0px\; padding: 0px\; vertical-align: baseline\; color: inherit\;">cell- (434) 258.3177</span></p>\n
LOCATION:Concert Schedule 5th Street Baptist Church 9:15 AM Diamond Hill Baptist Church 10:00 AM Jackson Street United Methodist Church 10:45 AM Holy Cross Catholic Church 11:30 AM Court Street Baptist Church 12:00 PM First Unitarian Universalist Congregation 12:30 PM Church of the Good Shepherd with special guest Agudath Sholom Synagogue 1:00 PM
UID:e.2276.9834
SEQUENCE:3
DTSTAMP:20260420T214502Z
URL:https://business.lynchburgregion.org/events/details/interfaith-outreach-association-downtown-lynchburg-historic-church-open-house-on-december-13-9834
END:VEVENT

END:VCALENDAR
