BEGIN:VCALENDAR
VERSION:2.0
PRODID:-//ChamberMaster//Event Calendar 2.0//EN
METHOD:PUBLISH
X-PUBLISHED-TTL:P3D
REFRESH-INTERVAL:P3D
CALSCALE:GREGORIAN
BEGIN:VEVENT
DTSTART:20251017T160000Z
DTEND:20251017T170000Z
X-MICROSOFT-CDO-ALLDAYEVENT:FALSE
SUMMARY:Join Us at Forest Wellness M.D. for our One Year Anniversary
DESCRIPTION:We're Turning ONE at Forest Wellness M.D.!\n\nThis October marks our 1-Year Anniversary\, and we couldn't be more thankful for the amazing support from our community here in Forest\, VA. \n\nOn October 17th\, we'll be celebrating at our office and reflecting on an incredible first year of helping patients with weight loss\, hormone therapy\, skin rejuvenation\, body contouring\, and more.\n\nIf you've been curious about what we do\, this is the perfect time to schedule an appointment and learn how our services can help you feel and look your best.\n\nForest Wellness M.D.   18250 Forest Rd\, Suite 1\, Forest\, VA\n\nOctober 17th\n\nCall us at 434-337-0600 or visit forestwellnessmd.com to schedule your visit.\n\nThank you for trusting us during our first year we can't wait to see what the future holds!
X-ALT-DESC;FMTTYPE=text/html:<p><strong>We&rsquo\;re Turning ONE at Forest Wellness M.D.!</strong></p>\n\n<p>This October marks our <strong>1-Year Anniversary</strong>\, and we couldn&rsquo\;t be more thankful for the amazing support from our community here in Forest\, VA.&nbsp\;</p>\n\n<p>On <strong>October 17th</strong>\, we&rsquo\;ll be celebrating at our office and reflecting on an incredible first year of helping patients with <strong>weight loss\, hormone therapy\, skin rejuvenation\, body contouring\, and more</strong>.</p>\n\n<p>If you&rsquo\;ve been curious about what we do\, this is the perfect time to <strong>schedule an appointment</strong> and learn how our services can help you feel and look your best.</p>\n\n<p>Forest Wellness M.D. &ndash\; 18250 Forest Rd\, Suite 1\, Forest\, VA<br />\nOctober 17th<br />\nCall us at <strong>434-337-0600</strong> or visit <a class="decorated-link" href="https://forestwellnessmd.com/?utm_source=chatgpt.com" rel="noopener" target="_new">forestwellnessmd.com</a> to schedule your visit.</p>\n\n<p>Thank you for trusting us during our first year&mdash\;we can&rsquo\;t wait to see what the future holds!&nbsp\;</p>\n
LOCATION:18250 Forest Rd Suite 1 Forest VA 24551
UID:e.2276.9512
SEQUENCE:3
DTSTAMP:20260420T215329Z
URL:https://business.lynchburgregion.org/events/details/join-us-at-forest-wellness-m-d-for-our-one-year-anniversary-10-17-2025-9512
END:VEVENT

END:VCALENDAR
