BEGIN:VCALENDAR
VERSION:2.0
PRODID:-//ChamberMaster//Event Calendar 2.0//EN
METHOD:PUBLISH
X-PUBLISHED-TTL:P3D
REFRESH-INTERVAL:P3D
CALSCALE:GREGORIAN
BEGIN:VEVENT
DTSTART:20230613T170000Z
DTEND:20230613T180000Z
X-MICROSOFT-CDO-ALLDAYEVENT:FALSE
SUMMARY:Keeping Your Loved One with Alzheimer’s or Dementia Safe
DESCRIPTION:This open discussion is a way for people caring for a loved one with Alzheimer's to meet\, share information and discuss emotions and challenges related to caregiving. \n\n\n\nA complimentary lunch from Val's Comfort Kitchen will be provided.\n\n\n\nDOOR PRIZES!\n\n\n\nRSVP by June 9\; please call 434-338-6992 to reserve your spot.
X-ALT-DESC;FMTTYPE=text/html:This open discussion is a way for people caring for a loved one with Alzheimer&rsquo\;s to meet\,&nbsp\;share information and discuss emotions and challenges related to caregiving.&nbsp\;<br />\n<br />\nA complimentary lunch from&nbsp\;Val&rsquo\;s Comfort Kitchen will be provided.<br />\n<br />\nDOOR PRIZES!<br />\n<br />\nRSVP by June 9\; please call 434-338-6992 to reserve your spot.
LOCATION:
UID:e.2276.7750
SEQUENCE:3
DTSTAMP:20260422T190445Z
URL:https://business.lynchburgregion.org/events/details/keeping-your-loved-one-with-alzheimer-s-or-dementia-safe-7750
END:VEVENT

END:VCALENDAR
