BEGIN:VCALENDAR
VERSION:2.0
PRODID:-//ChamberMaster//Event Calendar 2.0//EN
METHOD:PUBLISH
X-PUBLISHED-TTL:P3D
REFRESH-INTERVAL:P3D
CALSCALE:GREGORIAN
BEGIN:VEVENT
DTSTART:20231006T130000Z
DTEND:20231006T170000Z
X-MICROSOFT-CDO-ALLDAYEVENT:FALSE
SUMMARY:Live2Lead 2023 - LIVE Simulcast from Atlanta
DESCRIPTION:A WORLD CLASS LEADERS DEVELOPMENT EXPERIENCE \n\nLive2Lead is a 1 Day Leadership Conference and Personal Growth Event broadcasting live from Atlanta.  This simulcast event is an annual leadership gathering developed by Maxwell Leadership.\n\n \n\nPrepare to accelerate your own leadership abilities during this event that is jam-packed with leadership principles and personal growth techniques from their time-tested teaching.\n\n \n\nWhether you lead a large organization or want to be a better mentor to those around you\, Live2Lead 2023 will give you meaningful and relevant insights so you can implement a new action plan and lead with renewed passion and commitment!\n\n \n\nLEARN FROM WORLD-CLASS LEADERS. \n\nYou will learn from elite thinkers\, including the #1 leadership expert in the world\, John C. Maxwell\, and gain leadership principles and personal growth techniques from their time-tested teaching.\n\n \n\nIMPACT YOUR SPHERE OF INFLUENCE. \n\nWhether you lead a large organization or want to be a better mentor to those around you\, you will gain meaningful and relevant insights so you can return home ready to implement your new action plan and lead with renewed passion and commitment.\n\n \n\nMAKE MEANINGFUL CONNECTIONS. \n\nThis event is an opportunity for you to network with like-minded leaders who share your passion for leadership and learning. Make new connections or build on the ones you have during this event.
X-ALT-DESC;FMTTYPE=text/html:<span style="color:#0000CD"><strong><span style="font-family:work sans regular roman"><span style="font-size:16pt">A WORLD CLASS LEADERS DEVELOPMENT EXPERIENCE</span></span></strong>&nbsp\;</span><br />\n<span style="color:#333333"><span style="font-family:work sans light roman"><span style="font-size:10pt">Live2Lead is a 1 Day Leadership Conference and Personal Growth Event broadcasting live from Atlanta.&nbsp\;<strong>&nbsp\;</strong>This simulcast event is an annual leadership gathering developed by Maxwell Leadership.</span></span></span><br />\n&nbsp\;<br />\n<span style="color:#333333"><span style="font-family:work sans light roman"><span style="font-size:10pt">Prepare to accelerate your own leadership abilities during this event that is jam-packed with leadership principles and personal growth techniques from their time-tested teaching.</span></span></span><br />\n&nbsp\;<br />\n<span style="color:#333333"><span style="font-family:work sans light roman"><span style="font-size:10pt">Whether you lead a large organization or want to be a better mentor to those around you\, Live2Lead 2023 will give you meaningful and relevant insights so you can implement a new action plan and lead with renewed passion and commitment!</span></span></span><br />\n&nbsp\;<br />\n<strong><span style="color:#0000CD"><span style="font-family:work sans medium roman"><span style="font-size:11pt">LEARN FROM WORLD-CLASS LEADERS.&nbsp\;</span></span></span></strong><br />\n<span style="font-family:work sans light roman"><span style="font-size:10pt">You will learn from elite thinkers\, including the #1 leadership expert in the world\, John C. Maxwell\, and gain leadership principles and personal growth techniques from their time-tested teaching.</span></span><br />\n&nbsp\;<br />\n<strong><span style="color:#0000CD"><span style="font-family:work sans medium roman"><span style="font-size:11pt">IMPACT YOUR SPHERE OF INFLUENCE.&nbsp\;</span></span></span></strong><br />\n<span style="font-family:work sans light roman"><span style="font-size:10pt">Whether you lead a large organization or want to be a better mentor to those around you\, you will gain meaningful and relevant insights so you can return home ready to implement your new action plan and lead with renewed passion and commitment.</span></span><br />\n&nbsp\;<br />\n<strong><span style="color:#0000CD"><span style="font-family:work sans medium roman"><span style="font-size:11pt">MAKE MEANINGFUL CONNECTIONS.&nbsp\;</span></span></span></strong><br />\n<span style="color:rgb(0\, 0\, 0)\; font-family:work sans light roman\; font-size:10pt">This event is an opportunity for you to network with like-minded leaders who share your passion for leadership and learning. Make new connections or build on the ones you have during this event.</span><br />\n&nbsp\;
LOCATION:Purchase access by clicking on the Leaderpass link provided -- you'll have 5 days after the LIVE simulcast to rewatch the speakers.
UID:e.2276.7856
SEQUENCE:3
DTSTAMP:20260422T121414Z
URL:https://business.lynchburgregion.org/events/details/live2lead-2023-live-simulcast-from-atlanta-7856
END:VEVENT

END:VCALENDAR
