BEGIN:VCALENDAR
VERSION:2.0
PRODID:-//ChamberMaster//Event Calendar 2.0//EN
METHOD:PUBLISH
X-PUBLISHED-TTL:P3D
REFRESH-INTERVAL:P3D
CALSCALE:GREGORIAN
BEGIN:VEVENT
DTSTART:20241030T130000Z
DTEND:20241030T140000Z
X-MICROSOFT-CDO-ALLDAYEVENT:FALSE
SUMMARY:LRBA Business Roundtable
DESCRIPTION:Lynchburg Regional Business Alliance Campbell County members and leaders be our guests at a business roundtable featuring special guests Sen. Peake and Del. Zehr.  \n\n \n\nThe Lynchburg Regional Business Alliance is pleased to host a business roundtable\, Wednesday\, October 30\, 9:00 AM at Virginia Technical Institute in Altavista.   Please join us for a business roundtable with our Campbell County General Assembly Members:\n\n\n\nState Senator Mark Peake   8th Senate District & Delegate Eric Zehr   House District 51
X-ALT-DESC;FMTTYPE=text/html:<strong>Lynchburg Regional Business Alliance Campbell County members and leaders&hellip\;be our guests at a business roundtable featuring special guests Sen. Peake and Del. Zehr.&nbsp\; </strong><br />\n&nbsp\;<br />\nThe Lynchburg Regional Business Alliance is pleased to host a business roundtable\, Wednesday\, October 30\, 9:00 AM at Virginia Technical Institute in Altavista. &nbsp\; Please join us for a business roundtable with our Campbell County General Assembly Members:<br />\n<br />\n<strong><em>State Senator Mark Peake &ndash\; 8<sup>th</sup> Senate District &amp\; Delegate Eric Zehr &ndash\; House District 51 </em></strong><br />\n&nbsp\;
LOCATION:Virginia Technical Institute 201 Ogden Road Altavista\, VA 24517
UID:e.2276.9090
SEQUENCE:3
DTSTAMP:20260419T172621Z
URL:https://business.lynchburgregion.org/events/details/lrba-business-roundtable-9090
END:VEVENT

END:VCALENDAR
