BEGIN:VCALENDAR
VERSION:2.0
PRODID:-//ChamberMaster//Event Calendar 2.0//EN
METHOD:PUBLISH
X-PUBLISHED-TTL:P3D
REFRESH-INTERVAL:P3D
CALSCALE:GREGORIAN
BEGIN:VEVENT
DTSTART:20251218T230000Z
DTEND:20251219T020000Z
X-MICROSOFT-CDO-ALLDAYEVENT:FALSE
SUMMARY:LYH Women in Business Black & White Soirée Presented by Coach Rebecca
DESCRIPTION:Join us high above Downtown Lynchburg for our Holiday Party on Thursday\, December 18 from 6:00-8:30 PM at City View Venues! We are so excited for this year's Black & White Holiday Soir e created exclusively for the women who make our business community shine.\n\nOur black and white holiday soir e is built around the idea of seasons   the ones we walk through in life and the ones that shape who we are becoming. Seasons of strength\, change\, transition\, transformation\, waiting\, and everything in between.\n\nEvery woman arrives carrying her own story. Some stepping into something new\, some holding on through the in-between\, some rebuilding\, some flourishing. Wherever someone finds herself\, this evening is meant to feel like a breath of fresh air   a moment to feel seen\, supported\, and celebrated.\n\nThis gathering is about honoring those seasons and allowing connection to be the place where we draw strength for the next chapter. A night to be reminded that we don't walk our stories alone  and that community makes each season a little brighter.\n\nDress Code\n\nBlack & White Party Wear! This is your chance to show off a chic\, classic holiday look. Elegant\, bold\, sparkly\, or simple if it's black and white\, it's perfect for your moment walking down our red carpet!
X-ALT-DESC;FMTTYPE=text/html:<p>Join us high above Downtown Lynchburg for our Holiday Party on Thursday\, December 18 from 6:00-8:30 PM at City View Venues! We are so excited for this year&rsquo\;s Black &amp\; White Holiday Soir&eacute\;e created exclusively for the women who make our business community shine.</p>\n\n<p>Our black and white holiday soir&eacute\;e is built around the idea of seasons &mdash\; the ones we walk through in life and the ones that shape who we are becoming. Seasons of strength\, change\, transition\, transformation\, waiting\, and everything in between.</p>\n\n<p>Every woman arrives carrying her own story. Some stepping into something new\, some holding on through the in-between\, some rebuilding\, some flourishing. Wherever someone finds herself\, this evening is meant to feel like a breath of fresh air &mdash\; a moment to feel seen\, supported\, and celebrated.</p>\n\n<p>This gathering is about honoring those seasons and allowing connection to be the place where we draw strength for the next chapter. A night to be reminded that we don&rsquo\;t walk our stories alone&hellip\; and that community makes each season a little brighter.</p>\n\n<h2>Dress Code</h2>\n\n<p>Black &amp\; White Party Wear!&nbsp\;This is your chance to show off a chic\, classic holiday look. Elegant\, bold\, sparkly\, or simple&mdash\;if it&rsquo\;s black and white\, it&rsquo\;s perfect for your moment walking down our red carpet!</p>\n
LOCATION:City View Venues 8th Floor of Bank of the James 828 Main Street\, Lynchburg\, VA 24504
UID:e.2276.9833
SEQUENCE:3
DTSTAMP:20260420T165600Z
URL:https://business.lynchburgregion.org/events/details/lyh-women-in-business-black-white-soir&#233;e-presented-by-coach-rebecca-9833
END:VEVENT

END:VCALENDAR
