BEGIN:VCALENDAR
VERSION:2.0
PRODID:-//ChamberMaster//Event Calendar 2.0//EN
METHOD:PUBLISH
X-PUBLISHED-TTL:P3D
REFRESH-INTERVAL:P3D
CALSCALE:GREGORIAN
BEGIN:VEVENT
DTSTART:20150831T141500Z
DTEND:20150831T151500Z
X-MICROSOFT-CDO-ALLDAYEVENT:FALSE
SUMMARY:McAlister's Deli Grand Opening & Ribbon Cutting
DESCRIPTION:Join with us to cut the ribbon and celebrate the opening of this new Chamber member and new restaurant! We'll cut the ribbon at 10:15 a.m.\, and the restaurant will open at 10:30 a.m.\, with their delicious menu of spuds\, salads\, sandwiches\, desserts and Famous Sweet Tea!
X-ALT-DESC;FMTTYPE=text/html:<span style="color:#4F604F\;"><span style="font-family:verdana\,sans-serif\;"><span style="font-size:11.0pt\;">Join with us to cut the ribbon and celebrate the opening of this new Chamber member and new restaurant! We&#39\;ll cut the ribbon at 10:15 a.m.\, and the restaurant will open at 10:30 a.m.\, with their delicious menu of spuds\, salads\, sandwiches\, desserts and Famous Sweet Tea!&nbsp\;</span></span></span>
LOCATION:McAlister's Deli 717 Wards Ferry Road\, Suite 101 Lynchburg\, VA 24502
UID:e.2276.1760
SEQUENCE:3
DTSTAMP:20260422T002610Z
URL:https://business.lynchburgregion.org/events/details/mcalister-s-deli-grand-opening-ribbon-cutting-08-31-2015-1760
END:VEVENT

END:VCALENDAR
