BEGIN:VCALENDAR
VERSION:2.0
PRODID:-//ChamberMaster//Event Calendar 2.0//EN
METHOD:PUBLISH
X-PUBLISHED-TTL:P3D
REFRESH-INTERVAL:P3D
CALSCALE:GREGORIAN
BEGIN:VEVENT
DTSTART:20251007T113000Z
DTEND:20251007T123000Z
X-MICROSOFT-CDO-ALLDAYEVENT:FALSE
SUMMARY:NetWalking
DESCRIPTION:What Is Net-Walking?\n\nNet-Walking is a fresh\, healthy approach to networking blending conversation and connection with movement. Instead of a traditional sit-down event\, participants network while walking together in a relaxed\, informal environment. \n\n\n\nParticipants will walk in pairs or small groups\, rotating every 10-15 minutes to meet others. We will walk at a moderate pace to focus on easy conversation\, not cardio! \n\n\n\nKnow Before You Go\n\nMake sure to check the weather and wear comfortable clothing and footwear. During the Summer\, we recommend sunscreen and a hat.  \n\n \n\nWhy It Works:\n\n\n	Promotes authentic relationship building\n	Encourages creativity and open dialogue\n	Supports wellness and reduces pressure\n	Ideal for introverts and extroverts alike\n	Builds community through shared activity
X-ALT-DESC;FMTTYPE=text/html:<p class="x_MsoNormal" style="box-sizing: border-box\; margin: 0in\; font-size: 11pt\; font-family: Aptos\, sans-serif\; color: rgb(0\, 0\, 0)\;"><span style="box-sizing: border-box\; color: rgb(255\, 140\, 0)\;"><span style="box-sizing: border-box\; font-family: tahoma\;"><span style="box-sizing: border-box\; font-size: 14px\;"><span style="box-sizing: border-box\; font-weight: bolder\;">What Is Net-Walking?</span></span></span></span></p>\n\n<p class="x_MsoNormal" style="box-sizing: border-box\; margin: 0in\; font-size: 11pt\; font-family: Aptos\, sans-serif\; color: rgb(0\, 0\, 0)\;">Net-Walking<span style="box-sizing: border-box\; font-family: tahoma\;"><span style="box-sizing: border-box\; font-size: 14px\;"><span style="box-sizing: border-box\; border: 0px\; font-style: inherit\; font-variant: inherit\; font-weight: inherit\; font-stretch: inherit\; line-height: inherit\; font-optical-sizing: inherit\; font-size-adjust: inherit\; font-kerning: inherit\; font-feature-settings: inherit\; font-variation-settings: inherit\; margin: 0px\; padding: 0px\; vertical-align: baseline\; color: inherit\;">&nbsp\;is a fresh\, healthy approach to networking&mdash\;blending conversation and connection with movement. Instead of a traditional sit-down event\, participants network while walking together in a relaxed\, informal environment.&nbsp\;</span><br style="box-sizing: border-box\;" />\n<br style="box-sizing: border-box\;" />\nParticipants will walk in pairs or small groups\, rotating every 10-15 minutes to meet others. We will walk at a moderate pace to focus on easy conversation\, not cardio!&nbsp\;<br style="box-sizing: border-box\;" />\n<br style="box-sizing: border-box\;" />\n<span style="box-sizing: border-box\; font-weight: bolder\;">Know Before You Go</span><br style="box-sizing: border-box\;" />\nMake sure to check the weather and wear comfortable clothing and footwear. During the Summer\, we recommend sunscreen and&nbsp\;a hat.&nbsp\;&nbsp\;</span></span><br style="box-sizing: border-box\;" />\n&nbsp\;</p>\n\n<p class="x_MsoNormal" style="box-sizing: border-box\; margin: 0in\; font-size: 11pt\; font-family: Aptos\, sans-serif\; color: rgb(0\, 0\, 0)\;"><span style="box-sizing: border-box\; font-size: 14px\;"><span style="box-sizing: border-box\; font-family: tahoma\;"><span style="box-sizing: border-box\; font-weight: bolder\;">Why It Works:</span></span></span></p>\n\n<ul font-size:="" helvetica="" margin-top:="" segoe="" style="box-sizing: border-box\; margin-top: 0px\; margin-bottom: 0in\; font-family: Lato\, Tahoma\, sans-serif\; font-size: 14px\; color: rgb(0\, 0\, 0)\;" type="disc" ui="" web="" west="">\n	<li class="x_MsoNormal" style="box-sizing: border-box\; margin: 0in\; font-size: 11pt\; font-family: Aptos\, sans-serif\;"><span style="box-sizing: border-box\; font-size: 14px\;"><span style="box-sizing: border-box\; font-family: tahoma\;">Promotes authentic relationship building</span></span></li>\n	<li class="x_MsoNormal" style="box-sizing: border-box\; margin: 0in\; font-size: 11pt\; font-family: Aptos\, sans-serif\;"><span style="box-sizing: border-box\; font-size: 14px\;"><span style="box-sizing: border-box\; font-family: tahoma\;">Encourages creativity and open dialogue</span></span></li>\n	<li class="x_MsoNormal" style="box-sizing: border-box\; margin: 0in\; font-size: 11pt\; font-family: Aptos\, sans-serif\;"><span style="box-sizing: border-box\; font-size: 14px\;"><span style="box-sizing: border-box\; font-family: tahoma\;">Supports wellness and reduces pressure</span></span></li>\n	<li class="x_MsoNormal" style="box-sizing: border-box\; margin: 0in\; font-size: 11pt\; font-family: Aptos\, sans-serif\;"><span style="box-sizing: border-box\; font-size: 14px\;"><span style="box-sizing: border-box\; font-family: tahoma\;">Ideal for introverts and extroverts alike</span></span></li>\n	<li class="x_MsoNormal" style="box-sizing: border-box\; margin: 0in\; font-size: 11pt\; font-family: Aptos\, sans-serif\;"><span style="box-sizing: border-box\; font-size: 14px\;"><span style="box-sizing: border-box\; font-family: tahoma\;">Builds community through shared activity&nbsp\;</span></span></li>\n</ul>\n
LOCATION:Blackwater Creek Trail Meet at the Skatepark next to Depot Grille 10 9th St\, Lynchburg\, VA 24504
UID:e.2276.9520
SEQUENCE:3
DTSTAMP:20260421T010157Z
URL:https://business.lynchburgregion.org/events/details/netwalking-10-07-2025-9520
END:VEVENT

END:VCALENDAR
