BEGIN:VCALENDAR
VERSION:2.0
PRODID:-//ChamberMaster//Event Calendar 2.0//EN
METHOD:PUBLISH
X-PUBLISHED-TTL:P3D
REFRESH-INTERVAL:P3D
CALSCALE:GREGORIAN
BEGIN:VEVENT
DTSTART:20251008T150000Z
DTEND:20251008T180000Z
X-MICROSOFT-CDO-ALLDAYEVENT:FALSE
SUMMARY:Achieve of Central Virginia Open House
DESCRIPTION:Achieve of Central Virginia will be hosting an open house on Wednesday\, October 8\, 2025\, from 11 a.m. to 2 p.m. The event will take place at the Achieve of Central Virginia facility located at 3120 Odd Fellows Road\, Lynchburg Virginia.\n\n\n\nThe open house will serve as an opportunity for the public to learn more about the services and programs Achieve of Central Virginia provides to individuals with developmental disabilities. Attendees will have the chance to meet our dedicated staff\, tour the facility\, and see firsthand how our programs empower individuals to live more independent and fulfilling lives.\n\n\n\nOur team will be available to answer questions and provide detailed information on our various programs\, which include product manufacturing\, vocational training\, day support\, and community engagement. Light refreshments will be served\, and informational materials will be available. The event is free and open to the public.
X-ALT-DESC;FMTTYPE=text/html:<span style="color:#1B1C1D"><span style="font-family:times new roman\,serif"><span style="font-size:12.0pt">Achieve of Central Virginia will be hosting an open house on <strong>Wednesday\, October 8\, 2025</strong>\, from <strong>11 a.m. to 2 p.m.</strong> The event will take place at the Achieve of Central Virginia facility located at 3120 Odd Fellows Road\, Lynchburg Virginia.<br />\n<br />\nThe open house will serve as an opportunity for the public to learn more about the services and programs Achieve of Central Virginia provides to individuals with developmental disabilities. Attendees will have the chance to meet our dedicated staff\, tour the facility\, and see firsthand how our programs empower individuals to live more independent and fulfilling lives.<br />\n<br />\nOur team will be available to answer questions and provide detailed information on our various programs\, which include product manufacturing\, vocational training\, day support\, and community engagement. Light refreshments will be served\, and informational materials will be available. The event is free and open to the public.</span></span></span><br />\n<br />\n&nbsp\;
LOCATION:3120 Odd Fellows Road Lynchburg VA
UID:e.2276.9441
SEQUENCE:3
DTSTAMP:20260420T213330Z
URL:https://business.lynchburgregion.org/events/details/open-house-10-08-2025-9441
END:VEVENT

END:VCALENDAR
