BEGIN:VCALENDAR
VERSION:2.0
PRODID:-//ChamberMaster//Event Calendar 2.0//EN
METHOD:PUBLISH
X-PUBLISHED-TTL:P3D
REFRESH-INTERVAL:P3D
CALSCALE:GREGORIAN
BEGIN:VEVENT
DTSTART:20251023T210000Z
DTEND:20251023T230000Z
X-MICROSOFT-CDO-ALLDAYEVENT:FALSE
SUMMARY:Purse & Passion 2025
DESCRIPTION:Our title sponsor\, Select Bank\, is proud to host an evening of food\, drinks\, and music to kick off Purse & Passion 2025\, an auction of fantastic bags and accessories that supports the YWCA of Central VA's vital resources offered to women and children in our region.\n\nPurse & Passion is the YWCA of Central VA's primary fundraising campaign\, and enables them to provide invaluable resources to women in our region. From domestic violence prevention and sexual assault response to residential housing and youth programs\, the YWCA's impact is undeniable. It is through your support that these programs are continue to make a real difference in the lives of so many of our region's women and children
X-ALT-DESC;FMTTYPE=text/html:<div>\n<div>\n<div>\n<div>\n<p>Our title sponsor\, Select Bank\, is proud to host an evening of food\, drinks\, and music to kick off Purse &amp\; Passion 2025\, an auction of fantastic bags and accessories that supports the YWCA of Central VA&#39\;s vital resources offered to women and children in our region.</p>\n\n<p><span style="color:rgb(24\, 24\, 27)\; font-family:matter\,sans-serif">Purse &amp\; Passion is the YWCA of Central VA&#39\;s primary fundraising campaign\, and enables them to provide invaluable resources to women in our region. From domestic violence prevention and sexual assault response to residential housing and youth programs\, the YWCA&#39\;s impact is undeniable. It is through your support that these programs are continue to make a real difference in the lives of so many of our region&#39\;s women and children</span></p>\n</div>\n</div>\n</div>\n</div>\n
LOCATION:4925 Boonsboro Rd Lynchburg\, VA 24504
UID:e.2276.9528
SEQUENCE:3
DTSTAMP:20260420T202021Z
URL:https://business.lynchburgregion.org/events/details/purse-passion-2025-9528
END:VEVENT

END:VCALENDAR
