BEGIN:VCALENDAR
VERSION:2.0
PRODID:-//ChamberMaster//Event Calendar 2.0//EN
METHOD:PUBLISH
X-PUBLISHED-TTL:P3D
REFRESH-INTERVAL:P3D
CALSCALE:GREGORIAN
BEGIN:VEVENT
DTSTART:20231102T170000Z
DTEND:20231102T180000Z
X-MICROSOFT-CDO-ALLDAYEVENT:FALSE
SUMMARY:Revisiting the ERC: What You Don't Know Is Costing You
DESCRIPTION:Did you know that MORE THAN HALF of SMBs with 5-500 employees may now qualify for ERC under revised guidelines?\n\nThis virtual session will be educational for those who are not aware of the opportunity available through the Employer Grant (ERC). We will also discuss the little-known changes in guidelines for those who previously did not qualify\, and how you may receive up to $26\,000/employee.\n\nJoin us on November 2nd\, 1PM EST as we'll be clearing up myths and teaching you how you may now qualify for this program that is BETTER than PPP! We will also cover the recent IRS moratorium\, and how to get your application in queue.
X-ALT-DESC;FMTTYPE=text/html:<p>Did you know that MORE THAN HALF of SMBs with 5-500 employees may now qualify for ERC under revised guidelines?</p>\n\n<p>This virtual session will be educational for those who are not aware of the opportunity available through the Employer Grant (ERC). We will also discuss the little-known changes in guidelines for those who previously did not qualify\, and how you may receive up to $26\,000/employee.</p>\n\n<p>Join us on November 2nd\, 1PM EST as we&#39\;ll be clearing up myths and teaching you how you may now qualify for this program that is BETTER than PPP! We will also cover the recent IRS moratorium\, and how to get your application in queue.</p>\n
LOCATION:Virtual Webinar
UID:e.2276.7861
SEQUENCE:3
DTSTAMP:20260422T103023Z
URL:https://business.lynchburgregion.org/events/details/revisiting-the-erc-what-you-don-t-know-is-costing-you-7861
END:VEVENT

END:VCALENDAR
