BEGIN:VCALENDAR
VERSION:2.0
PRODID:-//ChamberMaster//Event Calendar 2.0//EN
METHOD:PUBLISH
X-PUBLISHED-TTL:P3D
REFRESH-INTERVAL:P3D
CALSCALE:GREGORIAN
BEGIN:VEVENT
DTSTART:20230509T150000Z
DTEND:20230509T170000Z
X-MICROSOFT-CDO-ALLDAYEVENT:FALSE
SUMMARY:Ribbon Cutting: Anything and More Store Lynchburg
DESCRIPTION:Join the Lynchburg Regional Business Alliance is we celebrate the grand opening of Anything and More Store Lynchburg! Come build relationships\, celebrate\, and take part in a ribbon cutting. Remarks will begin at 11:15 a.m.
X-ALT-DESC;FMTTYPE=text/html:Join the Lynchburg Regional Business Alliance is we celebrate the grand opening of Anything and More Store Lynchburg! Come build relationships\, celebrate\, and take part in a ribbon cutting. Remarks will begin at 11:15 a.m.
LOCATION:22447 Timberlake Rd. Lynchburg\, VA 24502
UID:e.2276.7727
SEQUENCE:3
DTSTAMP:20260420T222201Z
URL:https://business.lynchburgregion.org/events/details/ribbon-cutting-anything-and-more-store-lynchburg-7727
END:VEVENT

END:VCALENDAR
