BEGIN:VCALENDAR
VERSION:2.0
PRODID:-//ChamberMaster//Event Calendar 2.0//EN
METHOD:PUBLISH
X-PUBLISHED-TTL:P3D
REFRESH-INTERVAL:P3D
CALSCALE:GREGORIAN
BEGIN:VEVENT
DTSTART:20230519T150000Z
DTEND:20230519T170000Z
X-MICROSOFT-CDO-ALLDAYEVENT:FALSE
SUMMARY:Ribbon Cutting: Chiropractic Care Center
DESCRIPTION:Join the Alliance and Chiropractic Care Center - Dr. Will Likins as they celebrate their grand opening at 1499 Crossings Centre Dr.\, Ste A\, Forest. Refreshments will be served. See you there.
X-ALT-DESC;FMTTYPE=text/html:Join the Alliance and Chiropractic Care Center - Dr. Will Likins as they celebrate their grand opening at 1499 Crossings Centre Dr.\, Ste A\, Forest. Refreshments will be served. See you there.
LOCATION:1499 Crossings Centre Dr.\, Ste A Forest\, VA 24551
UID:e.2276.7712
SEQUENCE:3
DTSTAMP:20260420T222001Z
URL:https://business.lynchburgregion.org/events/details/ribbon-cutting-chiropractic-care-center-7712
END:VEVENT

END:VCALENDAR
