BEGIN:VCALENDAR
VERSION:2.0
PRODID:-//ChamberMaster//Event Calendar 2.0//EN
METHOD:PUBLISH
X-PUBLISHED-TTL:P3D
REFRESH-INTERVAL:P3D
CALSCALE:GREGORIAN
BEGIN:VEVENT
DTSTART:20230510T150000Z
DTEND:20230510T153000Z
X-MICROSOFT-CDO-ALLDAYEVENT:FALSE
SUMMARY:Ribbon Cutting: City View Market
DESCRIPTION:Join us for a ribbon cutting to celebrate the grand opening of City View Market - downtown's newest convenient place to shop!\n\n\n\nCity View Market is also giving police and firefighters free waters during their shifts while they are working. All they have to do is stop by the store\, and they'll give them free waters.
X-ALT-DESC;FMTTYPE=text/html:<span style="font-family:calibri\,sans-serif\;"><span style="font-size:11.0pt\;">Join us for a ribbon cutting to celebrate the grand opening of City View Market - downtown&#39\;s newest convenient place to shop!<br />\n<br />\nCity View Market is also giving police and firefighters free waters during their shifts while they are working. All they have to do is stop by the store\, and they&#39\;ll give them free waters.&nbsp\;</span></span>
LOCATION:725 Church Street\, Suite 101 Lynchburg\, VA 24504
UID:e.2276.7737
SEQUENCE:3
DTSTAMP:20260420T222144Z
URL:https://business.lynchburgregion.org/events/details/ribbon-cutting-city-view-market-7737
END:VEVENT

END:VCALENDAR
