BEGIN:VCALENDAR
VERSION:2.0
PRODID:-//ChamberMaster//Event Calendar 2.0//EN
METHOD:PUBLISH
X-PUBLISHED-TTL:P3D
REFRESH-INTERVAL:P3D
CALSCALE:GREGORIAN
BEGIN:VEVENT
DTSTART:20230301T180000Z
DTEND:20230301T184500Z
X-MICROSOFT-CDO-ALLDAYEVENT:FALSE
SUMMARY:Ribbon Cutting: Park View Community Mission
DESCRIPTION:Park View Community Mission is opening a new teaching kitchen thanks to a generous donation from Walmart. come join us for a ribbon cutting to commemorate this new space!
X-ALT-DESC;FMTTYPE=text/html:Park View Community Mission is opening a new teaching kitchen thanks to a generous donation from Walmart. come join us for a ribbon cutting to commemorate this new space!
LOCATION:2323 Memorial Avenue Suite 26 Lynchburg\, VA 24501
UID:e.2276.7673
SEQUENCE:3
DTSTAMP:20260423T021227Z
URL:https://business.lynchburgregion.org/events/details/ribbon-cutting-park-view-community-mission-7673
END:VEVENT

END:VCALENDAR
