BEGIN:VCALENDAR
VERSION:2.0
PRODID:-//ChamberMaster//Event Calendar 2.0//EN
METHOD:PUBLISH
X-PUBLISHED-TTL:P3D
REFRESH-INTERVAL:P3D
CALSCALE:GREGORIAN
BEGIN:VEVENT
DTSTART:20260317T140000Z
DTEND:20260317T160000Z
X-MICROSOFT-CDO-ALLDAYEVENT:FALSE
SUMMARY:Ribbon Cutting: Ryan Homes - The Allure Community
DESCRIPTION:Join us as we celebrate a Ribbon Cutting for Ryan Homes New Community\, The Allure!\n\n\n\nWe are thrilled to celebrate the grand opening of The Allure\, Ryan Homes' newest townhome community nestled in Rustburg\, Virginia\, on Tuesday\, March 17th from 10 AM to 12 PM and we would love for you to join us! The Allure offers beautifully designed townhomes starting from the mid $200s\, featuring 3 bedrooms\, 2.5 baths\, and optional basements\, all with granite countertops and modern finishes included at no extra cost. Residents will enjoy resort style amenities right at their doorstep\, including a clubhouse\, swimming pool\, and a full fitness center. The community's prime location puts you just minutes from Liberty University\, vibrant shopping and dining\, and major commuting routes\, all while benefiting from lower Campbell County taxes. Whether you are a first time buyer or looking to downsize into low maintenance living\, The Allure delivers the perfect blend of style\, comfort\, and community. Come cut the ribbon with us and be among the first to experience everything this exciting new neighborhood has to offer!\n\n\n\n\n\n\n\n \n\n \n\nDo you have a reason to celebrate too? Host a ribbon cutting\, grand opening\, or ground breaking with the Alliance!\n\n\n\nBenefits:\n\n\n	Use of our ceremonial ribbon and HUGE scissors\, provided by the Alliance - at no charge! (Shovels for groundbreakings available upon request)\n	Contact list of Alliance members that provide catering services (upon request)\n	Contact list of local media and a sample press release to promote your event\n	Alliance staff member and Ambassadors will attend and coordinate the ribbon cutting ceremony\n	Great photo opportunity - An Alliance staff member will take photos and post and tag your business on the Alliance's social media (Photos shared upon request)\n	Keep and sign your ribbon as a keepsake to display in your location\n\n\nAll these benefits are complimentary for Alliance members!\n\n\nRequest A Ribbon Cutting
X-ALT-DESC;FMTTYPE=text/html:<div data-test-render-count="2">\n<div class="mb-1 mt-6 group">\n<div class="flex flex-col items-end gap-1">\n<div class="group relative inline-flex gap-2 bg-bg-300 rounded-xl pl-2.5 py-2.5 break-words text-text-100 transition-all max-w-[75ch] flex-col !px-4 max-w-[85%]" style="opacity: 1\; transform: none\;">\n<div class="flex flex-row gap-2 relative">\n<div class="flex-1">\n<div class="font-large !font-user-message grid grid-cols-1 gap-2 py-0.5 relative" data-testid="user-message" style="max-height: none\; overflow: hidden\; position: relative\;">\n<p class="whitespace-pre-wrap break-words"><span style="box-sizing: border-box\; font-weight: bolder\; font-family: tahoma\; font-size: 16px\; color: rgb(255\, 140\, 0)\;">Join us as we celebrate a Ribbon Cutting for Ryan Homes New Community\, The Allure!</span><br />\n<br />\n<span style="font-size:16px\;"><span style="font-family:tahoma\;">We are thrilled to celebrate the grand opening of <strong>The Allure</strong>\, Ryan Homes&#39\; newest townhome community nestled in Rustburg\, Virginia\, on <strong>Tuesday\, March 17th from 10 AM to 12 PM</strong> and we would love for you to join us! The Allure offers beautifully designed townhomes starting from the mid $200s\, featuring 3 bedrooms\, 2.5 baths\, and optional basements\, all with granite countertops and modern finishes included at no extra cost. Residents will enjoy resort style amenities right at their doorstep\, including a clubhouse\, swimming pool\, and a full fitness center. The community&#39\;s prime location puts you just minutes from Liberty University\, vibrant shopping and dining\, and major commuting routes\, all while benefiting from lower Campbell County taxes. Whether you are a first time buyer or looking to downsize into low maintenance living\, The Allure delivers the perfect blend of style\, comfort\, and community. Come cut the ribbon with us and be among the first to experience everything this exciting new neighborhood has to offer!</span></span></p>\n</div>\n</div>\n</div>\n</div>\n</div>\n</div>\n</div>\n&nbsp\;\n\n<hr style="box-sizing: content-box\; height: 0px\; margin-top: 1rem\; margin-bottom: 1rem\; border-top-color: rgba(0\, 0\, 0\, 0.1)\; overflow: visible\; color: rgb(63\, 63\, 63)\; font-family: Lato\, Tahoma\, sans-serif\; font-size: 14px\;" /><span style="color: rgb(63\, 63\, 63)\; font-family: Lato\, Tahoma\, sans-serif\; font-size: 14px\;">&nbsp\;</span>\n\n<div style="box-sizing: border-box\; font-family: Lato\, Tahoma\, sans-serif\; font-size: 14px\; color: rgb(0\, 0\, 0)\;"><span style="box-sizing: border-box\; font-family: tahoma\;"><span style="box-sizing: border-box\; font-size: 16px\;"><span style="box-sizing: border-box\; font-weight: bolder\;">Do you have a reason to celebrate too? Host a ribbon cutting\, grand opening\, or ground breaking with the Alliance!</span><br style="box-sizing: border-box\;" />\n<br style="box-sizing: border-box\;" />\nBenefits:</span></span></div>\n\n<ul style="box-sizing: border-box\; margin-top: 0px\; margin-bottom: 1rem\; color: rgb(63\, 63\, 63)\; font-family: Lato\, Tahoma\, sans-serif\; font-size: 14px\;">\n	<li style="box-sizing: border-box\; margin: 0px\; color: rgb(0\, 0\, 0)\;"><span style="box-sizing: border-box\; font-family: tahoma\;"><span style="box-sizing: border-box\; font-size: 16px\;">Use of our ceremonial ribbon and HUGE scissors\, provided by the Alliance - at no charge! (Shovels for groundbreakings available upon request)</span></span></li>\n	<li style="box-sizing: border-box\; margin: 0px\; color: rgb(0\, 0\, 0)\;"><span style="box-sizing: border-box\; font-family: tahoma\;"><span style="box-sizing: border-box\; font-size: 16px\;">Contact list of Alliance members that provide catering services (upon request)</span></span></li>\n	<li style="box-sizing: border-box\; margin: 0px\; color: rgb(0\, 0\, 0)\;"><span style="box-sizing: border-box\; font-family: tahoma\;"><span style="box-sizing: border-box\; font-size: 16px\;">Contact list of local media and a sample press release to promote your event</span></span></li>\n	<li style="box-sizing: border-box\; margin: 0px\; color: rgb(0\, 0\, 0)\;"><span style="box-sizing: border-box\; font-family: tahoma\;"><span style="box-sizing: border-box\; font-size: 16px\;">Alliance staff member and Ambassadors will attend and coordinate the ribbon cutting ceremony</span></span></li>\n	<li style="box-sizing: border-box\; margin: 0px\; color: rgb(0\, 0\, 0)\;"><span style="box-sizing: border-box\; font-family: tahoma\;"><span style="box-sizing: border-box\; font-size: 16px\;">Great photo opportunity - An Alliance staff member will take photos and&nbsp\;post and tag your business&nbsp\;on the Alliance&#39\;s social media (Photos shared upon request)</span></span></li>\n	<li style="box-sizing: border-box\; margin: 0px\; color: rgb(0\, 0\, 0)\;"><span style="box-sizing: border-box\; font-family: tahoma\;"><span style="box-sizing: border-box\; font-size: 16px\;">Keep and sign your ribbon as a keepsake to display in your location</span></span></li>\n</ul>\n\n<div style="box-sizing: border-box\; font-family: Lato\, Tahoma\, sans-serif\; font-size: 14px\; color: rgb(0\, 0\, 0)\;"><span style="box-sizing: border-box\; font-family: tahoma\;"><span style="box-sizing: border-box\; font-size: 16px\;">All these benefits are complimentary for Alliance members!</span></span></div>\n<br style="box-sizing: border-box\; color: rgb(63\, 63\, 63)\; font-family: Lato\, Tahoma\, sans-serif\; font-size: 14px\;" />\n<span style="box-sizing: border-box\; color: rgb(63\, 63\, 63)\; font-size: 14px\; font-family: tahoma\;"><span style="box-sizing: border-box\; font-size: 16px\;"><span style="box-sizing: border-box\; font-weight: bolder\;"><u style="box-sizing: border-box\;"><a href="https://business.lynchburgregion.org/form/view/16420" style="box-sizing: border-box\; background-color: transparent\; color: rgb(240\, 118\, 34)\; text-decoration-line: none\; overflow-wrap: break-word\;"><span style="box-sizing: border-box\; color: rgb(255\, 140\, 0)\;">Request A Ribbon Cutting</span></a></u></span></span></span>
LOCATION:33 Ranwell Road Rustburg\, VA 24588
UID:e.2276.9933
SEQUENCE:3
DTSTAMP:20260420T120211Z
URL:https://business.lynchburgregion.org/events/details/ribbon-cutting-ryan-homes-the-allure-community-9933
END:VEVENT

END:VCALENDAR
