BEGIN:VCALENDAR
VERSION:2.0
PRODID:-//ChamberMaster//Event Calendar 2.0//EN
METHOD:PUBLISH
X-PUBLISHED-TTL:P3D
REFRESH-INTERVAL:P3D
CALSCALE:GREGORIAN
BEGIN:VEVENT
DTSTART:20230516T160000Z
DTEND:20230516T164500Z
X-MICROSOFT-CDO-ALLDAYEVENT:FALSE
SUMMARY:The Employer Grant for Non-Profit Organizations
DESCRIPTION:Valuable training for Non-Profits and Houses of Worship on a post-COVID recovery funding opportunity.\n\n\n\n \n\nThis is a virtual event for non-profit directors\, board treasurers\, grant-writers\, CFOs\, staff accountants\, consultants and fundraisers to participate and includes a complimentary lunch that will be delivered to every registered attendee!
X-ALT-DESC;FMTTYPE=text/html:<h5 style="text-align:center"><span style="font-size:20px"><strong>Valuable training for Non-Profits and Houses of Worship on a post-COVID recovery funding opportunity.</strong></span></h5>\n\n<div style="text-align:center"><br />\n&nbsp\;</div>\n\n<div style="text-align:center"><span style="color:#000000"><span style="font-family:open sans\,sans-serif\; font-size:16px">This is a virtual event for non-profit directors\, board treasurers\, grant-writers\, CFOs\, staff accountants\, consultants and fundraisers to participate and includes a complimentary lunch that will be delivered to every registered attendee!&nbsp\;</span></span><br />\n<br />\n&nbsp\;</div>\n
LOCATION:
UID:e.2276.7734
SEQUENCE:3
DTSTAMP:20260419T190825Z
URL:https://business.lynchburgregion.org/events/details/the-employer-grant-for-non-profit-organizations-7734
END:VEVENT

END:VCALENDAR
