BEGIN:VCALENDAR
VERSION:2.0
PRODID:-//ChamberMaster//Event Calendar 2.0//EN
METHOD:PUBLISH
X-PUBLISHED-TTL:P3D
REFRESH-INTERVAL:P3D
CALSCALE:GREGORIAN
BEGIN:VEVENT
DTSTART:20251204T220000Z
DTEND:20251205T003000Z
X-MICROSOFT-CDO-ALLDAYEVENT:FALSE
SUMMARY:Unleashing Housing: Free Market Solutions to Housing Crisis
DESCRIPTION:The Virginia General Assembly will convene for a long session in 2026. Groundwork for legislation is underway now. Rapidly increasing home prices in Virginia's metropolitan areas\, large and small\, are increasing pressure on the General Assembly to take action. CVPDC staff is contributing to an effort to bring together state legislators who want to hear from local elected officials on likely pieces of legislation. FOOD WILL BE PROVIDED FOR ALL ATTENDEES. RSVP LINK BELOW.
X-ALT-DESC;FMTTYPE=text/html:<span style="background-color:rgb(255\, 255\, 255)\; color:rgb(36\, 36\, 36)\; font-family:segoe ui\; font-size:18px">The</span><span style="background-color:rgb(255\, 255\, 255)\; color:rgb(36\, 36\, 36)\; font-family:segoe ui\; font-size:18px">&nbsp\;Virginia General Assembly will convene for a long session in 2026. Groundwork for legislation is underway now.&nbsp\;Rapidly increasing home prices in Virginia&rsquo\;s metropolitan areas\, large and small\, are increasing pressure on the General Assembly to take action. CVPDC staff is contributing to an effort to bring together state legislators who want to hear from local elected officials on likely pieces of legislation.&nbsp\;FOOD WILL BE PROVIDED FOR ALL ATTENDEES. <strong>RSVP LINK BELOW.</strong></span><br />\n<br />\n<br />\n<br />\n&nbsp\;
LOCATION:Americans for Prosperity Lynchburg Office 819 Main St. Lynchburg\, VA 24503
UID:e.2276.9829
SEQUENCE:3
DTSTAMP:20260420T165737Z
URL:https://business.lynchburgregion.org/events/details/unleashing-housing-free-market-solutions-to-housing-crisis-12-04-2025-9829
END:VEVENT

END:VCALENDAR
