BEGIN:VCALENDAR
VERSION:2.0
PRODID:-//ChamberMaster//Event Calendar 2.0//EN
METHOD:PUBLISH
X-PUBLISHED-TTL:P3D
REFRESH-INTERVAL:P3D
CALSCALE:GREGORIAN
BEGIN:VEVENT
DTSTART:20251017T160000Z
DTEND:20251017T170000Z
X-MICROSOFT-CDO-ALLDAYEVENT:FALSE
SUMMARY:We’re Turning ONE at Forest Wellness M.D.!
DESCRIPTION:This October marks our 1-Year Anniversary\, and we couldn't be more thankful for the incredible support from our community here in Forest\, VA. ??\n\nOn October 17th\, we'll be celebrating at our office and reflecting on an amazing first year of helping patients with weight loss\, hormone therapy\, skin rejuvenation\, body contouring\, and more.\n\n? To thank YOU\, we're doing a special raffle! ?\n\nYou and a friend could win: https://forms.gle/KbZUQ3iHvZewJ571A\n\n\n	\n	One FREE 30-minute EM-Shape session\n	\n	\n	One FREE Laser Facial\n	\n\n\n?? To be entered\, simply follow us on social media and you'll be automatically included in the drawing!\n\nIf you've been curious about what we do\, this is also the perfect time to schedule an appointment and learn how our services can help you feel and look your best.\n\n?? Forest Wellness M.D.   18250 Forest Rd\, Suite 1\, Forest\, VA\n\n?? October 17th\n\n?? Call us at 434-337-0600 or visit forestwellnessmd.com to schedule your visit.\n\nThank you for trusting us during our first year we can't wait to celebrate with you! ??
X-ALT-DESC;FMTTYPE=text/html:<p>This October marks our <strong>1-Year Anniversary</strong>\, and we couldn&rsquo\;t be more thankful for the incredible support from our community here in Forest\, VA. ??</p>\n\n<p>On <strong>October 17th</strong>\, we&rsquo\;ll be celebrating at our office and reflecting on an amazing first year of helping patients with <strong>weight loss\, hormone therapy\, skin rejuvenation\, body contouring\, and more</strong>.</p>\n\n<p>? To thank YOU\, we&rsquo\;re doing a <strong>special raffle</strong>! ?<br />\nYou and a friend could win:&nbsp\;<a href="https://forms.gle/KbZUQ3iHvZewJ571A">https://forms.gle/KbZUQ3iHvZewJ571A</a></p>\n\n<ul>\n	<li>\n	<p><strong>One FREE 30-minute EM-Shape session</strong></p>\n	</li>\n	<li>\n	<p><strong>One FREE Laser Facial</strong></p>\n	</li>\n</ul>\n\n<p>?? To be entered\, simply <strong>follow us on social media</strong> and you&rsquo\;ll be automatically included in the drawing!</p>\n\n<p>If you&rsquo\;ve been curious about what we do\, this is also the perfect time to <strong>schedule an appointment</strong> and learn how our services can help you feel and look your best.</p>\n\n<p>?? Forest Wellness M.D. &ndash\; 18250 Forest Rd\, Suite 1\, Forest\, VA<br />\n?? October 17th<br />\n?? Call us at <strong>434-337-0600</strong> or visit <a class="decorated-link" href="https://forestwellnessmd.com/?utm_source=chatgpt.com" rel="noopener" target="_new">forestwellnessmd.com</a> to schedule your visit.</p>\n\n<p>Thank you for trusting us during our first year&mdash\;we can&rsquo\;t wait to celebrate with you! ??</p>\n
LOCATION:18250 Forest Rd. Suite 1 Forest VA 24551
UID:e.2276.9455
SEQUENCE:3
DTSTAMP:20260420T215226Z
URL:https://business.lynchburgregion.org/events/details/we-re-turning-one-at-forest-wellness-m-d-9455
END:VEVENT

END:VCALENDAR
